BEGIN:VCALENDAR
VERSION:2.0
PRODID:-//Head Over Heels Athletic Arts - ECPv6.15.20//NONSGML v1.0//EN
CALSCALE:GREGORIAN
METHOD:PUBLISH
X-ORIGINAL-URL:https://hohathleticarts.com
X-WR-CALDESC:Events for Head Over Heels Athletic Arts
REFRESH-INTERVAL;VALUE=DURATION:PT1H
X-Robots-Tag:noindex
X-PUBLISHED-TTL:PT1H
BEGIN:VTIMEZONE
TZID:America/Los_Angeles
BEGIN:DAYLIGHT
TZOFFSETFROM:-0800
TZOFFSETTO:-0700
TZNAME:PDT
DTSTART:20230312T100000
END:DAYLIGHT
BEGIN:STANDARD
TZOFFSETFROM:-0700
TZOFFSETTO:-0800
TZNAME:PST
DTSTART:20231105T090000
END:STANDARD
BEGIN:DAYLIGHT
TZOFFSETFROM:-0800
TZOFFSETTO:-0700
TZNAME:PDT
DTSTART:20240310T100000
END:DAYLIGHT
BEGIN:STANDARD
TZOFFSETFROM:-0700
TZOFFSETTO:-0800
TZNAME:PST
DTSTART:20241103T090000
END:STANDARD
BEGIN:DAYLIGHT
TZOFFSETFROM:-0800
TZOFFSETTO:-0700
TZNAME:PDT
DTSTART:20250309T100000
END:DAYLIGHT
BEGIN:STANDARD
TZOFFSETFROM:-0700
TZOFFSETTO:-0800
TZNAME:PST
DTSTART:20251102T090000
END:STANDARD
END:VTIMEZONE
BEGIN:VEVENT
DTSTART;TZID=America/Los_Angeles:20241125T083000
DTEND;TZID=America/Los_Angeles:20241127T153000
DTSTAMP:20260425T035013
CREATED:20240822T232309Z
LAST-MODIFIED:20240903T225908Z
UID:8358-1732523400-1732721400@hohathleticarts.com
SUMMARY:Thanksgiving Camp
DESCRIPTION:Registration opens on Wednesday\, September 4. \nPreschool\nFull Day   School-Age\nFull Day \nAfterschool Club\n(3-6PM)
URL:https://hohathleticarts.com/event/thanksgiving-camp-8/
CATEGORIES:Camp,Seasonal Camp
END:VEVENT
BEGIN:VEVENT
DTSTART;VALUE=DATE:20241127
DTEND;VALUE=DATE:20241128
DTSTAMP:20260425T035013
CREATED:20240823T000855Z
LAST-MODIFIED:20240903T225948Z
UID:8371-1732665600-1732751999@hohathleticarts.com
SUMMARY:No Classes
DESCRIPTION:Classes are not in session due to the Thanksgiving holiday. Camp will still be running during this time. Classes resume on Monday\, November 25th. \nThank you for being a part of our HOH family and have a wonderful Thanksgiving.
URL:https://hohathleticarts.com/event/no-classes-11/
CATEGORIES:Facility
END:VEVENT
END:VCALENDAR