BEGIN:VCALENDAR
VERSION:2.0
PRODID:-//Head Over Heels Athletic Arts - ECPv6.15.20//NONSGML v1.0//EN
CALSCALE:GREGORIAN
METHOD:PUBLISH
X-ORIGINAL-URL:https://hohathleticarts.com
X-WR-CALDESC:Events for Head Over Heels Athletic Arts
REFRESH-INTERVAL;VALUE=DURATION:PT1H
X-Robots-Tag:noindex
X-PUBLISHED-TTL:PT1H
BEGIN:VTIMEZONE
TZID:America/Los_Angeles
BEGIN:DAYLIGHT
TZOFFSETFROM:-0800
TZOFFSETTO:-0700
TZNAME:PDT
DTSTART:20250309T100000
END:DAYLIGHT
BEGIN:STANDARD
TZOFFSETFROM:-0700
TZOFFSETTO:-0800
TZNAME:PST
DTSTART:20251102T090000
END:STANDARD
BEGIN:DAYLIGHT
TZOFFSETFROM:-0800
TZOFFSETTO:-0700
TZNAME:PDT
DTSTART:20260308T100000
END:DAYLIGHT
BEGIN:STANDARD
TZOFFSETFROM:-0700
TZOFFSETTO:-0800
TZNAME:PST
DTSTART:20261101T090000
END:STANDARD
BEGIN:DAYLIGHT
TZOFFSETFROM:-0800
TZOFFSETTO:-0700
TZNAME:PDT
DTSTART:20270314T100000
END:DAYLIGHT
BEGIN:STANDARD
TZOFFSETFROM:-0700
TZOFFSETTO:-0800
TZNAME:PST
DTSTART:20271107T090000
END:STANDARD
END:VTIMEZONE
BEGIN:VEVENT
DTSTART;TZID=America/Los_Angeles:20260330T083000
DTEND;TZID=America/Los_Angeles:20260403T153000
DTSTAMP:20260424T045537
CREATED:20260106T221052Z
LAST-MODIFIED:20260106T221052Z
UID:9334-1774859400-1775230200@hohathleticarts.com
SUMMARY:Spring Camp
DESCRIPTION:Preschool\nHalf Day   Preschool\nFull Day  \nSchool-Age\nFull Day   After-care\n(3-5:30PM)
URL:https://hohathleticarts.com/event/spring-camp-15/
CATEGORIES:Camp,Seasonal Camp
END:VEVENT
BEGIN:VEVENT
DTSTART;TZID=America/Los_Angeles:20260403T183000
DTEND;TZID=America/Los_Angeles:20260403T223000
DTSTAMP:20260424T045537
CREATED:20260319T230435Z
LAST-MODIFIED:20260319T230435Z
UID:9524-1775241000-1775255400@hohathleticarts.com
SUMMARY:Parents' Night Out
DESCRIPTION:Parents’ Night Out is offered on the 1st Friday of every month from 6:30-10:30pm. Children eat pizza\, play in the gym for hours and end the night with a age-appropriate movie. \nRegister\nNow
URL:https://hohathleticarts.com/event/parents-night-out-10/
CATEGORIES:PNO
END:VEVENT
END:VCALENDAR