BEGIN:VCALENDAR
VERSION:2.0
PRODID:-//Head Over Heels Athletic Arts - ECPv6.15.20//NONSGML v1.0//EN
CALSCALE:GREGORIAN
METHOD:PUBLISH
X-WR-CALNAME:Head Over Heels Athletic Arts
X-ORIGINAL-URL:https://hohathleticarts.com
X-WR-CALDESC:Events for Head Over Heels Athletic Arts
REFRESH-INTERVAL;VALUE=DURATION:PT1H
X-Robots-Tag:noindex
X-PUBLISHED-TTL:PT1H
BEGIN:VTIMEZONE
TZID:America/Los_Angeles
BEGIN:DAYLIGHT
TZOFFSETFROM:-0800
TZOFFSETTO:-0700
TZNAME:PDT
DTSTART:20210314T100000
END:DAYLIGHT
BEGIN:STANDARD
TZOFFSETFROM:-0700
TZOFFSETTO:-0800
TZNAME:PST
DTSTART:20211107T090000
END:STANDARD
BEGIN:DAYLIGHT
TZOFFSETFROM:-0800
TZOFFSETTO:-0700
TZNAME:PDT
DTSTART:20220313T100000
END:DAYLIGHT
BEGIN:STANDARD
TZOFFSETFROM:-0700
TZOFFSETTO:-0800
TZNAME:PST
DTSTART:20221106T090000
END:STANDARD
BEGIN:DAYLIGHT
TZOFFSETFROM:-0800
TZOFFSETTO:-0700
TZNAME:PDT
DTSTART:20230312T100000
END:DAYLIGHT
BEGIN:STANDARD
TZOFFSETFROM:-0700
TZOFFSETTO:-0800
TZNAME:PST
DTSTART:20231105T090000
END:STANDARD
BEGIN:DAYLIGHT
TZOFFSETFROM:-0800
TZOFFSETTO:-0700
TZNAME:PDT
DTSTART:20240310T100000
END:DAYLIGHT
BEGIN:STANDARD
TZOFFSETFROM:-0700
TZOFFSETTO:-0800
TZNAME:PST
DTSTART:20241103T090000
END:STANDARD
END:VTIMEZONE
BEGIN:VEVENT
DTSTART;TZID=America/Los_Angeles:20230505T083000
DTEND;TZID=America/Los_Angeles:20230505T153000
DTSTAMP:20260425T171835
CREATED:20230503T222837Z
LAST-MODIFIED:20230503T222855Z
UID:7415-1683275400-1683300600@hohathleticarts.com
SUMMARY:No School Day Camp
DESCRIPTION:School-Age\nFull Day     Afterschool Club\n(3:30-6PM)
URL:https://hohathleticarts.com/event/no-school-day-camp-78/
CATEGORIES:Camp,NSD
END:VEVENT
BEGIN:VEVENT
DTSTART;TZID=America/Los_Angeles:20230504T083000
DTEND;TZID=America/Los_Angeles:20230504T153000
DTSTAMP:20260425T171835
CREATED:20230503T222246Z
LAST-MODIFIED:20230503T222833Z
UID:7412-1683189000-1683214200@hohathleticarts.com
SUMMARY:No School Day Camp
DESCRIPTION:School-Age\nFull Day     Afterschool Club\n(3:30-6PM)
URL:https://hohathleticarts.com/event/no-school-day-camp-77/
CATEGORIES:Camp,NSD
END:VEVENT
BEGIN:VEVENT
DTSTART;TZID=America/Los_Angeles:20230428T083000
DTEND;TZID=America/Los_Angeles:20230428T153000
DTSTAMP:20260425T171835
CREATED:20230220T221952Z
LAST-MODIFIED:20230328T012034Z
UID:7169-1682670600-1682695800@hohathleticarts.com
SUMMARY:No School Day Camp
DESCRIPTION:Preschool\nFull Day   Afterschool Club\n(3:30-6PM)
URL:https://hohathleticarts.com/event/no-school-day-camp-65/
CATEGORIES:Camp,NSD
END:VEVENT
BEGIN:VEVENT
DTSTART;TZID=America/Los_Angeles:20230421T083000
DTEND;TZID=America/Los_Angeles:20230421T153000
DTSTAMP:20260425T171835
CREATED:20230418T172315Z
LAST-MODIFIED:20230419T172012Z
UID:7401-1682065800-1682091000@hohathleticarts.com
SUMMARY:No School Day Camp
DESCRIPTION:Preschool\nHalf Day   Preschool\nFull Day\nSchool-Age\nFull Day   Afterschool Club\n(3:30-6PM)
URL:https://hohathleticarts.com/event/no-school-day-camp-74/
CATEGORIES:Camp,NSD
END:VEVENT
BEGIN:VEVENT
DTSTART;TZID=America/Los_Angeles:20230417T083000
DTEND;TZID=America/Los_Angeles:20230417T153000
DTSTAMP:20260425T171835
CREATED:20230316T180851Z
LAST-MODIFIED:20230328T012011Z
UID:7356-1681720200-1681745400@hohathleticarts.com
SUMMARY:No School Day Camp
DESCRIPTION:Preschool\nHalf Day   Preschool\nFull Day\nSchool-Age\nFull Day   Afterschool Club\n(3:30-6PM)
URL:https://hohathleticarts.com/event/no-school-day-camp-75/
CATEGORIES:Camp,NSD
END:VEVENT
BEGIN:VEVENT
DTSTART;TZID=America/Los_Angeles:20230410T083000
DTEND;TZID=America/Los_Angeles:20230414T153000
DTSTAMP:20260425T171835
CREATED:20230113T230303Z
LAST-MODIFIED:20230113T230303Z
UID:6980-1681115400-1681486200@hohathleticarts.com
SUMMARY:Spring Camp
DESCRIPTION:Week 2\n \nPreschool\nFull Day   School-Age\nFull Day\nAfterschool Club\n(3:30-6PM)
URL:https://hohathleticarts.com/event/spring-camp-6/
CATEGORIES:Camp,Seasonal Camp
END:VEVENT
BEGIN:VEVENT
DTSTART;TZID=America/Los_Angeles:20230403T083000
DTEND;TZID=America/Los_Angeles:20230407T153000
DTSTAMP:20260425T171835
CREATED:20230113T225858Z
LAST-MODIFIED:20230113T230129Z
UID:6975-1680510600-1680881400@hohathleticarts.com
SUMMARY:Spring Camp
DESCRIPTION:Week 1\n \nPreschool\nFull Day   School-Age\nFull Day\nAfterschool Club\n(3:30-6PM)
URL:https://hohathleticarts.com/event/spring-camp-5/
CATEGORIES:Camp,Seasonal Camp
END:VEVENT
BEGIN:VEVENT
DTSTART;TZID=America/Los_Angeles:20230331T083000
DTEND;TZID=America/Los_Angeles:20230331T153000
DTSTAMP:20260425T171835
CREATED:20230220T221916Z
LAST-MODIFIED:20230328T011238Z
UID:7167-1680251400-1680276600@hohathleticarts.com
SUMMARY:No School Day Camp
DESCRIPTION:Preschool\nHalf Day   Preschool\nFull Day\nSchool-Age\nFull Day   Afterschool Club\n(3:30-6PM)
URL:https://hohathleticarts.com/event/no-school-day-camp-64/
CATEGORIES:Camp,NSD
END:VEVENT
BEGIN:VEVENT
DTSTART;TZID=America/Los_Angeles:20230330T083000
DTEND;TZID=America/Los_Angeles:20230330T153000
DTSTAMP:20260425T171835
CREATED:20230220T221817Z
LAST-MODIFIED:20230328T011324Z
UID:7165-1680165000-1680190200@hohathleticarts.com
SUMMARY:No School Day Camp
DESCRIPTION:Preschool\nHalf Day   Preschool\nFull Day\nAfterschool Club\n(3:30-6PM)
URL:https://hohathleticarts.com/event/no-school-day-camp-63/
CATEGORIES:Camp,NSD
END:VEVENT
BEGIN:VEVENT
DTSTART;TZID=America/Los_Angeles:20230318T173000
DTEND;TZID=America/Los_Angeles:20230318T223000
DTSTAMP:20260425T171835
CREATED:20230314T195116Z
LAST-MODIFIED:20230314T195116Z
UID:7308-1679160600-1679178600@hohathleticarts.com
SUMMARY:Parent's Night Out
DESCRIPTION:Enjoy an evening out while your kids enjoy a night of flipping\, jumping and playing! Parent’s Night Out (PNO) is a way for you to have a night out and have your child(ren) in a safe\, active\, and fun environment. \nLearn More About\nThis Program   Register\nOnline
URL:https://hohathleticarts.com/event/parents-night-out/
END:VEVENT
BEGIN:VEVENT
DTSTART;TZID=America/Los_Angeles:20230313T083000
DTEND;TZID=America/Los_Angeles:20230313T153000
DTSTAMP:20260425T171835
CREATED:20230308T002421Z
LAST-MODIFIED:20230308T002633Z
UID:7274-1678696200-1678721400@hohathleticarts.com
SUMMARY:No School Day Camp
DESCRIPTION:School-Age\nFull Day    Afterschool Club\n(3:30-6PM)
URL:https://hohathleticarts.com/event/no-school-day-camp-73/
CATEGORIES:Camp,NSD
END:VEVENT
BEGIN:VEVENT
DTSTART;TZID=America/Los_Angeles:20230310T083000
DTEND;TZID=America/Los_Angeles:20230310T153000
DTSTAMP:20260425T171835
CREATED:20230308T002239Z
LAST-MODIFIED:20230308T002317Z
UID:7270-1678437000-1678462200@hohathleticarts.com
SUMMARY:No School Day Camp
DESCRIPTION:School-Age\nFull Day     Afterschool Club\n(3:30-6PM)
URL:https://hohathleticarts.com/event/no-school-day-camp-72/
CATEGORIES:Camp,NSD
END:VEVENT
BEGIN:VEVENT
DTSTART;TZID=America/Los_Angeles:20230304T080000
DTEND;TZID=America/Los_Angeles:20230304T170000
DTSTAMP:20260425T171835
CREATED:20230126T182427Z
LAST-MODIFIED:20230126T182427Z
UID:7053-1677916800-1677949200@hohathleticarts.com
SUMMARY:No Classes
DESCRIPTION:Classes are not in session due to the Boys Levels 3 & 4 State Championship. \nEveryone is welcome to attend. More information coming soon.
URL:https://hohathleticarts.com/event/no-classes-7/
CATEGORIES:Facility
END:VEVENT
BEGIN:VEVENT
DTSTART;VALUE=DATE:20230304
DTEND;VALUE=DATE:20230306
DTSTAMP:20260425T171835
CREATED:20230126T184935Z
LAST-MODIFIED:20230126T184935Z
UID:7055-1677888000-1678060799@hohathleticarts.com
SUMMARY:Boys Level 3 & 4 State Championship
DESCRIPTION:Come join us for the 2022 NorCal Boys Gymnastics Association Level 3 & 4 State Championship! \nSpectator Tickets on sale: $15 for adults and $10 for children (under 18 years) and seniors (over 65 years). \nMore Information Coming Soon
URL:https://hohathleticarts.com/event/boys-level-3-4-state-championship-2/
CATEGORIES:Facility
END:VEVENT
BEGIN:VEVENT
DTSTART;TZID=America/Los_Angeles:20230303T083000
DTEND;TZID=America/Los_Angeles:20230303T153000
DTSTAMP:20260425T171835
CREATED:20230220T221745Z
LAST-MODIFIED:20230220T221745Z
UID:7162-1677832200-1677857400@hohathleticarts.com
SUMMARY:No School Day Camp
DESCRIPTION:Preschool\nFull Day   Afterschool Club\n(3:30-6PM)
URL:https://hohathleticarts.com/event/no-school-day-camp-62/
CATEGORIES:Camp,NSD
END:VEVENT
BEGIN:VEVENT
DTSTART;TZID=America/Los_Angeles:20230224T083000
DTEND;TZID=America/Los_Angeles:20230224T153000
DTSTAMP:20260425T171835
CREATED:20230211T014200Z
LAST-MODIFIED:20230211T014200Z
UID:7101-1677227400-1677252600@hohathleticarts.com
SUMMARY:No School Day Camp
DESCRIPTION:Preschool\nFull Day   Afterschool Club\n(3:30-6PM)
URL:https://hohathleticarts.com/event/no-school-day-camp-61/
CATEGORIES:Camp,NSD
END:VEVENT
BEGIN:VEVENT
DTSTART;TZID=America/Los_Angeles:20230220T083000
DTEND;TZID=America/Los_Angeles:20230224T153000
DTSTAMP:20260425T171835
CREATED:20230105T211402Z
LAST-MODIFIED:20230113T235302Z
UID:6949-1676881800-1677252600@hohathleticarts.com
SUMMARY:Presidents Week Camp
DESCRIPTION:
URL:https://hohathleticarts.com/event/presidents-week-camp-6/
CATEGORIES:Camp,Seasonal Camp
END:VEVENT
BEGIN:VEVENT
DTSTART;TZID=America/Los_Angeles:20230220T083000
DTEND;TZID=America/Los_Angeles:20230220T153000
DTSTAMP:20260425T171835
CREATED:20230105T211055Z
LAST-MODIFIED:20230113T235308Z
UID:6947-1676881800-1676907000@hohathleticarts.com
SUMMARY:No School Day Camp
DESCRIPTION:Preschool\nFull Day   School-Age\nFull Day\nAfterschool Club\n(3:30-6PM)
URL:https://hohathleticarts.com/event/no-school-day-camp-55/
CATEGORIES:Camp,NSD
END:VEVENT
BEGIN:VEVENT
DTSTART;TZID=America/Los_Angeles:20230217T083000
DTEND;TZID=America/Los_Angeles:20230217T153000
DTSTAMP:20260425T171835
CREATED:20230118T233713Z
LAST-MODIFIED:20230308T002335Z
UID:7005-1676622600-1676647800@hohathleticarts.com
SUMMARY:No School Day Camp
DESCRIPTION:Preschool\nFull Day     School-Age\nFull Day\nAfterschool Club\n(3:30-6PM)
URL:https://hohathleticarts.com/event/no-school-day-camp-59/
CATEGORIES:Camp,NSD
END:VEVENT
BEGIN:VEVENT
DTSTART;TZID=America/Los_Angeles:20230216T083000
DTEND;TZID=America/Los_Angeles:20230216T153000
DTSTAMP:20260425T171835
CREATED:20230208T200330Z
LAST-MODIFIED:20230208T200330Z
UID:7088-1676536200-1676561400@hohathleticarts.com
SUMMARY:No School Day Camp
DESCRIPTION:School-Age\nFull Day   Afterschool Club\n(3:30-6PM)
URL:https://hohathleticarts.com/event/no-school-day-camp-60/
CATEGORIES:Camp,NSD
END:VEVENT
BEGIN:VEVENT
DTSTART;TZID=America/Los_Angeles:20230127T083000
DTEND;TZID=America/Los_Angeles:20230127T153000
DTSTAMP:20260425T171835
CREATED:20230118T233636Z
LAST-MODIFIED:20230118T233636Z
UID:7003-1674808200-1674833400@hohathleticarts.com
SUMMARY:No School Day Camp
DESCRIPTION:Preschool\nFull Day\nAfterschool Club\n(3:30-6PM)
URL:https://hohathleticarts.com/event/no-school-day-camp-58/
CATEGORIES:Camp,NSD
END:VEVENT
BEGIN:VEVENT
DTSTART;TZID=America/Los_Angeles:20230124T083000
DTEND;TZID=America/Los_Angeles:20230124T153000
DTSTAMP:20260425T171835
CREATED:20230118T233536Z
LAST-MODIFIED:20230118T233536Z
UID:7001-1674549000-1674574200@hohathleticarts.com
SUMMARY:No School Day Camp
DESCRIPTION:Preschool\nFull Day\nAfterschool Club\n(3:30-6PM)
URL:https://hohathleticarts.com/event/no-school-day-camp-57/
CATEGORIES:Camp,NSD
END:VEVENT
BEGIN:VEVENT
DTSTART;TZID=America/Los_Angeles:20230123T083000
DTEND;TZID=America/Los_Angeles:20230123T153000
DTSTAMP:20260425T171835
CREATED:20230106T202111Z
LAST-MODIFIED:20230113T234753Z
UID:6955-1674462600-1674487800@hohathleticarts.com
SUMMARY:No School Day Camp
DESCRIPTION:Preschool\nFull Day   School-Age\nFull Day\nAfterschool Club\n(3:30-6PM)
URL:https://hohathleticarts.com/event/no-school-day-camp-56/
CATEGORIES:Camp,NSD
END:VEVENT
BEGIN:VEVENT
DTSTART;TZID=America/Los_Angeles:20230116T083000
DTEND;TZID=America/Los_Angeles:20230116T153000
DTSTAMP:20260425T171835
CREATED:20230105T210756Z
LAST-MODIFIED:20230113T234808Z
UID:6944-1673857800-1673883000@hohathleticarts.com
SUMMARY:No School Day Camp
DESCRIPTION:Preschool\nFull Day   School-Age\nFull Day\nAfterschool Club\n(3:30-6PM)
URL:https://hohathleticarts.com/event/no-school-day-camp-54/
CATEGORIES:Camp,NSD
END:VEVENT
BEGIN:VEVENT
DTSTART;VALUE=DATE:20221231
DTEND;VALUE=DATE:20230102
DTSTAMP:20260425T171835
CREATED:20221004T190346Z
LAST-MODIFIED:20230113T235341Z
UID:6868-1672444800-1672617599@hohathleticarts.com
SUMMARY:Holiday Closure
DESCRIPTION:HOH is closed. There are no classes\, camp\, or open gym. Phones will not be answered at this time. Please leave a voice message at (510)655-1265 or email us at info@hohathleticarts.com and we will get back to you on Monday\, January 2nd. \nHappy Holidays!
URL:https://hohathleticarts.com/event/holiday-closure-13/
CATEGORIES:Facility
END:VEVENT
BEGIN:VEVENT
DTSTART;TZID=America/Los_Angeles:20221226T083000
DTEND;TZID=America/Los_Angeles:20221230T153000
DTSTAMP:20260425T171835
CREATED:20220906T221020Z
LAST-MODIFIED:20220907T201258Z
UID:6815-1672043400-1672414200@hohathleticarts.com
SUMMARY:Winter Camp
DESCRIPTION:Preschool\nHalf Day   Preschool\nFull Day \nSchool-Age\nFull Day \nAfterschool Club\n(3:30-5PM)
URL:https://hohathleticarts.com/event/winter-camp-9/
CATEGORIES:Camp
END:VEVENT
BEGIN:VEVENT
DTSTART;VALUE=DATE:20221226
DTEND;VALUE=DATE:20221231
DTSTAMP:20260425T171835
CREATED:20221004T190058Z
LAST-MODIFIED:20221004T190149Z
UID:6862-1672012800-1672444799@hohathleticarts.com
SUMMARY:No Classes
DESCRIPTION:Classes are not in session due to the Winter Holidays. Camp will still be running during this time. \nHappy Holiday Season and we will see you on the week of January 2nd.
URL:https://hohathleticarts.com/event/no-classes-6/
END:VEVENT
BEGIN:VEVENT
DTSTART;VALUE=DATE:20221224
DTEND;VALUE=DATE:20221226
DTSTAMP:20260425T171835
CREATED:20221004T190316Z
LAST-MODIFIED:20221004T190316Z
UID:6866-1671840000-1672012799@hohathleticarts.com
SUMMARY:Holiday Closure
DESCRIPTION:HOH is closed. There are no classes\, camp\, or open gym. Phones will not be answered at this time. Please leave a voice message at (510)655-1265 or email us at info@hohathleticarts.com and we will get back to you on Monday\, December 26th. \nHappy Holidays!
URL:https://hohathleticarts.com/event/holiday-closure-12/
END:VEVENT
BEGIN:VEVENT
DTSTART;VALUE=DATE:20221222
DTEND;VALUE=DATE:20221224
DTSTAMP:20260425T171835
CREATED:20221004T190037Z
LAST-MODIFIED:20230113T235401Z
UID:6860-1671667200-1671839999@hohathleticarts.com
SUMMARY:No Classes
DESCRIPTION:Classes are not in session due to the Winter Holidays. Camp will still be running during this time. \nHappy Holiday Season and we will see you on the week of January 2nd.
URL:https://hohathleticarts.com/event/no-classes-5/
CATEGORIES:Facility
END:VEVENT
BEGIN:VEVENT
DTSTART;TZID=America/Los_Angeles:20221219T083000
DTEND;TZID=America/Los_Angeles:20221223T153000
DTSTAMP:20260425T171835
CREATED:20220906T220928Z
LAST-MODIFIED:20230113T235408Z
UID:6812-1671438600-1671809400@hohathleticarts.com
SUMMARY:Winter Camp
DESCRIPTION:Preschool\nHalf Day   Preschool\nFull Day \nSchool-Age\nFull Day \nAfterschool Club\n(3:30-5PM)
URL:https://hohathleticarts.com/event/winter-camp-8/
CATEGORIES:Camp,Seasonal Camp
END:VEVENT
END:VCALENDAR