BEGIN:VCALENDAR
VERSION:2.0
PRODID:-//Head Over Heels Athletic Arts - ECPv6.15.20//NONSGML v1.0//EN
CALSCALE:GREGORIAN
METHOD:PUBLISH
X-ORIGINAL-URL:https://hohathleticarts.com
X-WR-CALDESC:Events for Head Over Heels Athletic Arts
REFRESH-INTERVAL;VALUE=DURATION:PT1H
X-Robots-Tag:noindex
X-PUBLISHED-TTL:PT1H
BEGIN:VTIMEZONE
TZID:America/Los_Angeles
BEGIN:DAYLIGHT
TZOFFSETFROM:-0800
TZOFFSETTO:-0700
TZNAME:PDT
DTSTART:20240310T100000
END:DAYLIGHT
BEGIN:STANDARD
TZOFFSETFROM:-0700
TZOFFSETTO:-0800
TZNAME:PST
DTSTART:20241103T090000
END:STANDARD
BEGIN:DAYLIGHT
TZOFFSETFROM:-0800
TZOFFSETTO:-0700
TZNAME:PDT
DTSTART:20250309T100000
END:DAYLIGHT
BEGIN:STANDARD
TZOFFSETFROM:-0700
TZOFFSETTO:-0800
TZNAME:PST
DTSTART:20251102T090000
END:STANDARD
BEGIN:DAYLIGHT
TZOFFSETFROM:-0800
TZOFFSETTO:-0700
TZNAME:PDT
DTSTART:20260308T100000
END:DAYLIGHT
BEGIN:STANDARD
TZOFFSETFROM:-0700
TZOFFSETTO:-0800
TZNAME:PST
DTSTART:20261101T090000
END:STANDARD
BEGIN:DAYLIGHT
TZOFFSETFROM:-0800
TZOFFSETTO:-0700
TZNAME:PDT
DTSTART:20270314T100000
END:DAYLIGHT
BEGIN:STANDARD
TZOFFSETFROM:-0700
TZOFFSETTO:-0800
TZNAME:PST
DTSTART:20271107T090000
END:STANDARD
END:VTIMEZONE
BEGIN:VEVENT
DTSTART;TZID=America/Los_Angeles:20251125T083000
DTEND;TZID=America/Los_Angeles:20251125T153000
DTSTAMP:20260425T070536
CREATED:20250910T192528Z
LAST-MODIFIED:20250910T192528Z
UID:9086-1764059400-1764084600@hohathleticarts.com
SUMMARY:Thanksgiving Camp
DESCRIPTION:Preschool\nFull Day   School-Age\nFull Day \nAfter-care\n(3-5:30PM)
URL:https://hohathleticarts.com/event/thanksgiving-camp-10/
CATEGORIES:NSD,Camp,Seasonal Camp
END:VEVENT
BEGIN:VEVENT
DTSTART;VALUE=DATE:20251126
DTEND;VALUE=DATE:20251127
DTSTAMP:20260425T070536
CREATED:20251008T181605Z
LAST-MODIFIED:20251008T181630Z
UID:9179-1764115200-1764201599@hohathleticarts.com
SUMMARY:No Classes
DESCRIPTION:Classes are not in session due to the Thanksgiving holiday. Camp will still be running during this time. Classes resume on Monday\, December 1st. \nThank you for being a part of our HOH family and have a wonderful Thanksgiving.
URL:https://hohathleticarts.com/event/no-classes-16/
CATEGORIES:Facility
END:VEVENT
BEGIN:VEVENT
DTSTART;TZID=America/Los_Angeles:20251126T083000
DTEND;TZID=America/Los_Angeles:20251126T153000
DTSTAMP:20260425T070536
CREATED:20250910T192549Z
LAST-MODIFIED:20250910T192549Z
UID:9088-1764145800-1764171000@hohathleticarts.com
SUMMARY:Thanksgiving Camp
DESCRIPTION:Preschool\nFull Day   School-Age\nFull Day \nAfter-care\n(3-5:30PM)
URL:https://hohathleticarts.com/event/thanksgiving-camp-11/
CATEGORIES:NSD,Camp,Seasonal Camp
END:VEVENT
BEGIN:VEVENT
DTSTART;VALUE=DATE:20251127
DTEND;VALUE=DATE:20251201
DTSTAMP:20260425T070536
CREATED:20251008T181155Z
LAST-MODIFIED:20251008T181155Z
UID:9175-1764201600-1764547199@hohathleticarts.com
SUMMARY:Holiday Closure
DESCRIPTION:HOH is closed. There are no classes and no camp. Phones will not be answered at this time. Please leave a voice message at (510)655-1265 or email us at info@hohathleticarts.com and we will get back to you on Monday\, December 1st. \nThank you for being a part of our HOH family and have a wonderful Thanksgiving.
URL:https://hohathleticarts.com/event/holiday-closure-34/
CATEGORIES:Facility
END:VEVENT
BEGIN:VEVENT
DTSTART;TZID=America/Los_Angeles:20251201T083000
DTEND;TZID=America/Los_Angeles:20251201T153000
DTSTAMP:20260425T070536
CREATED:20251118T224910Z
LAST-MODIFIED:20251118T224910Z
UID:9259-1764577800-1764603000@hohathleticarts.com
SUMMARY:No School Day Camp
DESCRIPTION:Preschool\nFull Day   School-Age\nFull Day \nAfter-care\n(3-5:30PM)
URL:https://hohathleticarts.com/event/no-school-day-camp-162/
CATEGORIES:Camp,NSD
END:VEVENT
BEGIN:VEVENT
DTSTART;TZID=America/Los_Angeles:20251205T183000
DTEND;TZID=America/Los_Angeles:20251205T223000
DTSTAMP:20260425T070536
CREATED:20251015T200709Z
LAST-MODIFIED:20251015T200709Z
UID:9207-1764959400-1764973800@hohathleticarts.com
SUMMARY:Parents' Night Out
DESCRIPTION:Parents’ Night Out is offered on the 1st Friday of every month from 6:30-10:30pm. Children eat pizza\, play in the gym for hours and end the night with a age-appropriate movie. \nRegister
URL:https://hohathleticarts.com/event/parents-night-out-5/
CATEGORIES:PNO
END:VEVENT
BEGIN:VEVENT
DTSTART;TZID=America/Los_Angeles:20251212T083000
DTEND;TZID=America/Los_Angeles:20251212T153000
DTSTAMP:20260425T070536
CREATED:20251209T225535Z
LAST-MODIFIED:20251209T225535Z
UID:9284-1765528200-1765553400@hohathleticarts.com
SUMMARY:No School Day Camp
DESCRIPTION:Preschool\nFull Day   After-care\n(3-5:30PM)
URL:https://hohathleticarts.com/event/no-school-day-camp-165/
CATEGORIES:Camp,NSD
END:VEVENT
BEGIN:VEVENT
DTSTART;VALUE=DATE:20251222
DTEND;VALUE=DATE:20251225
DTSTAMP:20260425T070536
CREATED:20251008T181751Z
LAST-MODIFIED:20251008T181751Z
UID:9182-1766361600-1766620799@hohathleticarts.com
SUMMARY:No Classes
DESCRIPTION:Classes are not in session due to the winter holidays. Camp will still be running during this time. Classes resume on Monday\, January 5th. \nHappy Holidays!
URL:https://hohathleticarts.com/event/no-classes-17/
CATEGORIES:Facility
END:VEVENT
BEGIN:VEVENT
DTSTART;TZID=America/Los_Angeles:20251222T083000
DTEND;TZID=America/Los_Angeles:20251224T153000
DTSTAMP:20260425T070536
CREATED:20250915T210542Z
LAST-MODIFIED:20250915T210542Z
UID:9132-1766392200-1766590200@hohathleticarts.com
SUMMARY:Winter Camp
DESCRIPTION:Preschool\nHalf Day   Preschool\nFull Day \nSchool-Age\nFull Day   After-care\n(3-5:30PM)
URL:https://hohathleticarts.com/event/winter-camp-16/
CATEGORIES:Camp,Seasonal Camp
END:VEVENT
BEGIN:VEVENT
DTSTART;VALUE=DATE:20251225
DTEND;VALUE=DATE:20251229
DTSTAMP:20260425T070536
CREATED:20251008T182224Z
LAST-MODIFIED:20251008T182317Z
UID:9186-1766620800-1766966399@hohathleticarts.com
SUMMARY:Holiday Closure
DESCRIPTION:HOH is closed. There are no classes and no camp. Phones will not be answered at this time. Please leave a voice message at (510) 655-1265 or email us at info@hohathleticarts.com and we will get back to you as soon as we can. \nHappy holidays!
URL:https://hohathleticarts.com/event/holiday-closure-35/
CATEGORIES:Facility
END:VEVENT
BEGIN:VEVENT
DTSTART;VALUE=DATE:20251229
DTEND;VALUE=DATE:20260101
DTSTAMP:20260425T070536
CREATED:20251008T181814Z
LAST-MODIFIED:20251008T181814Z
UID:9184-1766966400-1767225599@hohathleticarts.com
SUMMARY:No Classes
DESCRIPTION:Classes are not in session due to the winter holidays. Camp will still be running during this time. Classes resume on Monday\, January 5th. \nHappy Holidays!
URL:https://hohathleticarts.com/event/no-classes-18/
CATEGORIES:Facility
END:VEVENT
BEGIN:VEVENT
DTSTART;TZID=America/Los_Angeles:20251229T083000
DTEND;TZID=America/Los_Angeles:20251231T153000
DTSTAMP:20260425T070536
CREATED:20250915T210657Z
LAST-MODIFIED:20250915T210657Z
UID:9134-1766997000-1767195000@hohathleticarts.com
SUMMARY:Winter Camp
DESCRIPTION:Preschool\nHalf Day   Preschool\nFull Day \nSchool-Age\nFull Day   After-care\n(3-5:30PM)
URL:https://hohathleticarts.com/event/winter-camp-17/
CATEGORIES:Camp,Seasonal Camp
END:VEVENT
BEGIN:VEVENT
DTSTART;VALUE=DATE:20260101
DTEND;VALUE=DATE:20260105
DTSTAMP:20260425T070536
CREATED:20251008T182259Z
LAST-MODIFIED:20251008T182259Z
UID:9188-1767225600-1767571199@hohathleticarts.com
SUMMARY:Holiday Closure
DESCRIPTION:HOH is closed. There are no classes and no camp. Phones will not be answered at this time. Please leave a voice message at (510) 655-1265 or email us at info@hohathleticarts.com and we will get back to you as soon as we can. \nHappy holidays!
URL:https://hohathleticarts.com/event/holiday-closure-36/
CATEGORIES:Facility
END:VEVENT
BEGIN:VEVENT
DTSTART;TZID=America/Los_Angeles:20260105T083000
DTEND;TZID=America/Los_Angeles:20260105T153000
DTSTAMP:20260425T070536
CREATED:20251211T184749Z
LAST-MODIFIED:20251222T215126Z
UID:9288-1767601800-1767627000@hohathleticarts.com
SUMMARY:No School Day Camp
DESCRIPTION:Preschool\nFull Day   School-Age\nFull Day  \nAfter-care\n(3-5:30PM)
URL:https://hohathleticarts.com/event/no-school-day-camp-166/
CATEGORIES:Camp,NSD
END:VEVENT
BEGIN:VEVENT
DTSTART;TZID=America/Los_Angeles:20260106T083000
DTEND;TZID=America/Los_Angeles:20260106T153000
DTSTAMP:20260425T070536
CREATED:20251230T205620Z
LAST-MODIFIED:20251230T205620Z
UID:9329-1767688200-1767713400@hohathleticarts.com
SUMMARY:No School Day Camp
DESCRIPTION:Ages 4-12\nFull Day   After-care\n(3-5:30PM)
URL:https://hohathleticarts.com/event/no-school-day-camp-169/
CATEGORIES:Camp,NSD
END:VEVENT
BEGIN:VEVENT
DTSTART;TZID=America/Los_Angeles:20260109T183000
DTEND;TZID=America/Los_Angeles:20260109T223000
DTSTAMP:20260425T070536
CREATED:20251223T192039Z
LAST-MODIFIED:20251223T192109Z
UID:9316-1767983400-1767997800@hohathleticarts.com
SUMMARY:Parents' Night Out
DESCRIPTION:Parents’ Night Out is offered on the 1st Friday of every month from 6:30-10:30pm. For this month\, it is the first Friday we are open after the Holidays – January 9th! Children eat pizza\, play in the gym for hours and end the night with a age-appropriate movie. \nRegister\nNow
URL:https://hohathleticarts.com/event/parents-night-out-6/
CATEGORIES:PNO
END:VEVENT
BEGIN:VEVENT
DTSTART;TZID=America/Los_Angeles:20260119T083000
DTEND;TZID=America/Los_Angeles:20260119T153000
DTSTAMP:20260425T070536
CREATED:20251230T204136Z
LAST-MODIFIED:20260107T174216Z
UID:9321-1768811400-1768836600@hohathleticarts.com
SUMMARY:No School Day Camp
DESCRIPTION:Preschool\nHalf Day   Preschool\nFull Day \nSchool-Age\nFull Day   After-care\n(3-5:30PM)
URL:https://hohathleticarts.com/event/no-school-day-camp-167/
CATEGORIES:Camp,NSD
END:VEVENT
BEGIN:VEVENT
DTSTART;TZID=America/Los_Angeles:20260120T083000
DTEND;TZID=America/Los_Angeles:20260120T153000
DTSTAMP:20260425T070536
CREATED:20260115T204655Z
LAST-MODIFIED:20260116T231615Z
UID:9392-1768897800-1768923000@hohathleticarts.com
SUMMARY:No School Day Camp
DESCRIPTION:Preschool\nHalf Day   Preschool\nFull Day
URL:https://hohathleticarts.com/event/no-school-day-camp-170/
CATEGORIES:Camp,NSD
END:VEVENT
BEGIN:VEVENT
DTSTART;TZID=America/Los_Angeles:20260126T083000
DTEND;TZID=America/Los_Angeles:20260126T153000
DTSTAMP:20260425T070536
CREATED:20260121T174003Z
LAST-MODIFIED:20260127T212635Z
UID:9404-1769416200-1769441400@hohathleticarts.com
SUMMARY:No School Day Camp
DESCRIPTION:Preschool\nFull Day   School-Age\nFull Day \nAfter-care\n(3-6PM)
URL:https://hohathleticarts.com/event/no-school-day-camp-172/
CATEGORIES:Camp,NSD
END:VEVENT
BEGIN:VEVENT
DTSTART;TZID=America/Los_Angeles:20260206T083000
DTEND;TZID=America/Los_Angeles:20260206T153000
DTSTAMP:20260425T070536
CREATED:20260127T212710Z
LAST-MODIFIED:20260127T212717Z
UID:9410-1770366600-1770391800@hohathleticarts.com
SUMMARY:No School Day Camp
DESCRIPTION:Preschool\nFull Day   School-Age\nFull Day \nAfter-care\n(3-6PM)
URL:https://hohathleticarts.com/event/no-school-day-camp-173/
CATEGORIES:Camp,NSD
END:VEVENT
BEGIN:VEVENT
DTSTART;TZID=America/Los_Angeles:20260206T183000
DTEND;TZID=America/Los_Angeles:20260206T223000
DTSTAMP:20260425T070536
CREATED:20260106T223056Z
LAST-MODIFIED:20260106T223056Z
UID:9341-1770402600-1770417000@hohathleticarts.com
SUMMARY:Parents' Night Out
DESCRIPTION:Parents’ Night Out is offered on the 1st Friday of every month from 6:30-10:30pm. Children eat pizza\, play in the gym for hours and end the night with a age-appropriate movie. \nRegister\nNow
URL:https://hohathleticarts.com/event/parents-night-out-7/
CATEGORIES:PNO
END:VEVENT
BEGIN:VEVENT
DTSTART;TZID=America/Los_Angeles:20260213T083000
DTEND;TZID=America/Los_Angeles:20260213T153000
DTSTAMP:20260425T070536
CREATED:20260116T231950Z
LAST-MODIFIED:20260204T183029Z
UID:9395-1770971400-1770996600@hohathleticarts.com
SUMMARY:No School Day Camp
DESCRIPTION:Preschool\nHalf Day   Preschool\nFull Day \nSchool-Age\nFull Day  After-care\n(3:30-6PM)
URL:https://hohathleticarts.com/event/no-school-day-camp-171/
CATEGORIES:Camp,NSD
END:VEVENT
BEGIN:VEVENT
DTSTART;TZID=America/Los_Angeles:20260216T083000
DTEND;TZID=America/Los_Angeles:20260216T153000
DTSTAMP:20260425T070536
CREATED:20251230T204422Z
LAST-MODIFIED:20260107T174607Z
UID:9323-1771230600-1771255800@hohathleticarts.com
SUMMARY:No School Day Camp
DESCRIPTION:Preschool\nHalf Day   Preschool\nFull Day  \nSchool-Age\nFull Day    After-care\n(3-5:30PM)
URL:https://hohathleticarts.com/event/no-school-day-camp-168/
CATEGORIES:Camp,NSD
END:VEVENT
BEGIN:VEVENT
DTSTART;TZID=America/Los_Angeles:20260216T083000
DTEND;TZID=America/Los_Angeles:20260220T153000
DTSTAMP:20260425T070536
CREATED:20251230T204700Z
LAST-MODIFIED:20251230T204700Z
UID:9325-1771230600-1771601400@hohathleticarts.com
SUMMARY:Presidents Week Camp
DESCRIPTION:Preschool\nFull Day   School-Age\nFull Day  \nAfter-care\n(3-5:30PM)
URL:https://hohathleticarts.com/event/presidents-week-camp-7/
CATEGORIES:Camp,Seasonal Camp
END:VEVENT
BEGIN:VEVENT
DTSTART;TZID=America/Los_Angeles:20260220T083000
DTEND;TZID=America/Los_Angeles:20260220T153000
DTSTAMP:20260425T070536
CREATED:20260213T175211Z
LAST-MODIFIED:20260213T175211Z
UID:9489-1771576200-1771601400@hohathleticarts.com
SUMMARY:No School Day Camp
DESCRIPTION:Preschool\nHalf Day   Preschool\nFull Day \nSchool-Age\nFull Day  After-care\n(3:30-6PM)
URL:https://hohathleticarts.com/event/no-school-day-camp-174/
CATEGORIES:Camp,NSD
END:VEVENT
BEGIN:VEVENT
DTSTART;TZID=America/Los_Angeles:20260227T083000
DTEND;TZID=America/Los_Angeles:20260227T153000
DTSTAMP:20260425T070536
CREATED:20260224T222719Z
LAST-MODIFIED:20260224T222719Z
UID:9501-1772181000-1772206200@hohathleticarts.com
SUMMARY:No School Day Camp
DESCRIPTION:School-Age\nFull Day  After-care\n(3:30-6PM)
URL:https://hohathleticarts.com/event/no-school-day-camp-175/
CATEGORIES:Camp,NSD
END:VEVENT
BEGIN:VEVENT
DTSTART;TZID=America/Los_Angeles:20260302T083000
DTEND;TZID=America/Los_Angeles:20260302T153000
DTSTAMP:20260425T070536
CREATED:20260224T222902Z
LAST-MODIFIED:20260224T222902Z
UID:9504-1772440200-1772465400@hohathleticarts.com
SUMMARY:No School Day Camp
DESCRIPTION:School-Age\nFull Day  After-care\n(3:30-6PM)
URL:https://hohathleticarts.com/event/no-school-day-camp-176/
CATEGORIES:Camp,NSD
END:VEVENT
BEGIN:VEVENT
DTSTART;TZID=America/Los_Angeles:20260306T083000
DTEND;TZID=America/Los_Angeles:20260306T153000
DTSTAMP:20260425T070536
CREATED:20260224T223101Z
LAST-MODIFIED:20260302T234933Z
UID:9506-1772785800-1772811000@hohathleticarts.com
SUMMARY:No School Day Camp
DESCRIPTION:Preschool\nFull Day   School-Age\nFull Day \nAfter-care\n(3:30-6PM)
URL:https://hohathleticarts.com/event/no-school-day-camp-177/
CATEGORIES:Camp,NSD
END:VEVENT
BEGIN:VEVENT
DTSTART;TZID=America/Los_Angeles:20260306T183000
DTEND;TZID=America/Los_Angeles:20260306T223000
DTSTAMP:20260425T070536
CREATED:20260210T174339Z
LAST-MODIFIED:20260210T174339Z
UID:9483-1772821800-1772836200@hohathleticarts.com
SUMMARY:Parents' Night Out
DESCRIPTION:Parents’ Night Out is offered on the 1st Friday of every month from 6:30-10:30pm. Children eat pizza\, play in the gym for hours and end the night with a age-appropriate movie. \nRegister\nNow
URL:https://hohathleticarts.com/event/parents-night-out-9/
CATEGORIES:PNO
END:VEVENT
BEGIN:VEVENT
DTSTART;TZID=America/Los_Angeles:20260314T173000
DTEND;TZID=America/Los_Angeles:20260314T223000
DTSTAMP:20260425T070536
CREATED:20260115T001546Z
LAST-MODIFIED:20260115T001546Z
UID:9390-1773509400-1773527400@hohathleticarts.com
SUMMARY:Parents' Night Out
DESCRIPTION:We have a special Parents’ Night Out this month! From 5:30-10:30pm\, children will eat pizza\, play in the gym for hours\, and end the night with a age-appropriate movie. \nRegister\nNow
URL:https://hohathleticarts.com/event/parents-night-out-8/
CATEGORIES:PNO
END:VEVENT
END:VCALENDAR