BEGIN:VCALENDAR
VERSION:2.0
PRODID:-//Head Over Heels Athletic Arts - ECPv6.15.20//NONSGML v1.0//EN
CALSCALE:GREGORIAN
METHOD:PUBLISH
X-WR-CALNAME:Head Over Heels Athletic Arts
X-ORIGINAL-URL:https://hohathleticarts.com
X-WR-CALDESC:Events for Head Over Heels Athletic Arts
REFRESH-INTERVAL;VALUE=DURATION:PT1H
X-Robots-Tag:noindex
X-PUBLISHED-TTL:PT1H
BEGIN:VTIMEZONE
TZID:America/Los_Angeles
BEGIN:DAYLIGHT
TZOFFSETFROM:-0800
TZOFFSETTO:-0700
TZNAME:PDT
DTSTART:20210314T100000
END:DAYLIGHT
BEGIN:STANDARD
TZOFFSETFROM:-0700
TZOFFSETTO:-0800
TZNAME:PST
DTSTART:20211107T090000
END:STANDARD
BEGIN:DAYLIGHT
TZOFFSETFROM:-0800
TZOFFSETTO:-0700
TZNAME:PDT
DTSTART:20220313T100000
END:DAYLIGHT
BEGIN:STANDARD
TZOFFSETFROM:-0700
TZOFFSETTO:-0800
TZNAME:PST
DTSTART:20221106T090000
END:STANDARD
BEGIN:DAYLIGHT
TZOFFSETFROM:-0800
TZOFFSETTO:-0700
TZNAME:PDT
DTSTART:20230312T100000
END:DAYLIGHT
BEGIN:STANDARD
TZOFFSETFROM:-0700
TZOFFSETTO:-0800
TZNAME:PST
DTSTART:20231105T090000
END:STANDARD
BEGIN:DAYLIGHT
TZOFFSETFROM:-0800
TZOFFSETTO:-0700
TZNAME:PDT
DTSTART:20240310T100000
END:DAYLIGHT
BEGIN:STANDARD
TZOFFSETFROM:-0700
TZOFFSETTO:-0800
TZNAME:PST
DTSTART:20241103T090000
END:STANDARD
END:VTIMEZONE
BEGIN:VEVENT
DTSTART;VALUE=DATE:20221231
DTEND;VALUE=DATE:20230102
DTSTAMP:20260425T200305
CREATED:20221004T190346Z
LAST-MODIFIED:20230113T235341Z
UID:6868-1672444800-1672617599@hohathleticarts.com
SUMMARY:Holiday Closure
DESCRIPTION:HOH is closed. There are no classes\, camp\, or open gym. Phones will not be answered at this time. Please leave a voice message at (510)655-1265 or email us at info@hohathleticarts.com and we will get back to you on Monday\, January 2nd. \nHappy Holidays!
URL:https://hohathleticarts.com/event/holiday-closure-13/
CATEGORIES:Facility
END:VEVENT
BEGIN:VEVENT
DTSTART;TZID=America/Los_Angeles:20221226T083000
DTEND;TZID=America/Los_Angeles:20221230T153000
DTSTAMP:20260425T200305
CREATED:20220906T221020Z
LAST-MODIFIED:20220907T201258Z
UID:6815-1672043400-1672414200@hohathleticarts.com
SUMMARY:Winter Camp
DESCRIPTION:Preschool\nHalf Day   Preschool\nFull Day \nSchool-Age\nFull Day \nAfterschool Club\n(3:30-5PM)
URL:https://hohathleticarts.com/event/winter-camp-9/
CATEGORIES:Camp
END:VEVENT
BEGIN:VEVENT
DTSTART;VALUE=DATE:20221226
DTEND;VALUE=DATE:20221231
DTSTAMP:20260425T200305
CREATED:20221004T190058Z
LAST-MODIFIED:20221004T190149Z
UID:6862-1672012800-1672444799@hohathleticarts.com
SUMMARY:No Classes
DESCRIPTION:Classes are not in session due to the Winter Holidays. Camp will still be running during this time. \nHappy Holiday Season and we will see you on the week of January 2nd.
URL:https://hohathleticarts.com/event/no-classes-6/
END:VEVENT
BEGIN:VEVENT
DTSTART;VALUE=DATE:20221224
DTEND;VALUE=DATE:20221226
DTSTAMP:20260425T200305
CREATED:20221004T190316Z
LAST-MODIFIED:20221004T190316Z
UID:6866-1671840000-1672012799@hohathleticarts.com
SUMMARY:Holiday Closure
DESCRIPTION:HOH is closed. There are no classes\, camp\, or open gym. Phones will not be answered at this time. Please leave a voice message at (510)655-1265 or email us at info@hohathleticarts.com and we will get back to you on Monday\, December 26th. \nHappy Holidays!
URL:https://hohathleticarts.com/event/holiday-closure-12/
END:VEVENT
BEGIN:VEVENT
DTSTART;VALUE=DATE:20221222
DTEND;VALUE=DATE:20221224
DTSTAMP:20260425T200305
CREATED:20221004T190037Z
LAST-MODIFIED:20230113T235401Z
UID:6860-1671667200-1671839999@hohathleticarts.com
SUMMARY:No Classes
DESCRIPTION:Classes are not in session due to the Winter Holidays. Camp will still be running during this time. \nHappy Holiday Season and we will see you on the week of January 2nd.
URL:https://hohathleticarts.com/event/no-classes-5/
CATEGORIES:Facility
END:VEVENT
BEGIN:VEVENT
DTSTART;TZID=America/Los_Angeles:20221219T083000
DTEND;TZID=America/Los_Angeles:20221223T153000
DTSTAMP:20260425T200305
CREATED:20220906T220928Z
LAST-MODIFIED:20230113T235408Z
UID:6812-1671438600-1671809400@hohathleticarts.com
SUMMARY:Winter Camp
DESCRIPTION:Preschool\nHalf Day   Preschool\nFull Day \nSchool-Age\nFull Day \nAfterschool Club\n(3:30-5PM)
URL:https://hohathleticarts.com/event/winter-camp-8/
CATEGORIES:Camp,Seasonal Camp
END:VEVENT
BEGIN:VEVENT
DTSTART;VALUE=DATE:20221124
DTEND;VALUE=DATE:20221128
DTSTAMP:20260425T200305
CREATED:20221004T175603Z
LAST-MODIFIED:20230113T235415Z
UID:6852-1669248000-1669593599@hohathleticarts.com
SUMMARY:Holiday Closure
DESCRIPTION:HOH is closed. There are no classes\, camp\, or open gym. Phones will not be answered at this time. Please leave a voice message at (510)655-1265 or email us at info@hohathleticarts.com and we will get back to you on Monday\, November 28th. \nHave a Happy Thanksgiving!
URL:https://hohathleticarts.com/event/holiday-closure-10/
CATEGORIES:Facility
END:VEVENT
BEGIN:VEVENT
DTSTART;VALUE=DATE:20221122
DTEND;VALUE=DATE:20221124
DTSTAMP:20260425T200305
CREATED:20221004T180553Z
LAST-MODIFIED:20230113T235428Z
UID:6855-1669075200-1669247999@hohathleticarts.com
SUMMARY:No Classes
DESCRIPTION:Classes are not in session due to the Thanksgiving Holiday. Camp will still be running during this time. \nHave a safe and happy Thanksgiving and we will see you on the week of November 28th.
URL:https://hohathleticarts.com/event/no-class/
CATEGORIES:Facility
END:VEVENT
BEGIN:VEVENT
DTSTART;TZID=America/Los_Angeles:20221121T083000
DTEND;TZID=America/Los_Angeles:20221123T153000
DTSTAMP:20260425T200305
CREATED:20220906T220525Z
LAST-MODIFIED:20220906T220525Z
UID:6810-1669019400-1669217400@hohathleticarts.com
SUMMARY:Thanksgiving Camp
DESCRIPTION:Preschool\nFull Day   School-Age\nFull Day\nAfterschool Club\n(3:30-6PM)
URL:https://hohathleticarts.com/event/thanksgiving-camp-6/
CATEGORIES:Camp
END:VEVENT
BEGIN:VEVENT
DTSTART;TZID=America/Los_Angeles:20221111T083000
DTEND;TZID=America/Los_Angeles:20221111T153000
DTSTAMP:20260425T200305
CREATED:20220906T220351Z
LAST-MODIFIED:20220906T220351Z
UID:6806-1668155400-1668180600@hohathleticarts.com
SUMMARY:Veteran's Day Camp
DESCRIPTION:Preschool\nFull Day   School-Age\nFull Day\nAfterschool Club\n(3:30-6PM)
URL:https://hohathleticarts.com/event/veterans-day-camp/
CATEGORIES:Camp
END:VEVENT
BEGIN:VEVENT
DTSTART;VALUE=DATE:20221031
DTEND;VALUE=DATE:20221101
DTSTAMP:20260425T200305
CREATED:20221004T185629Z
LAST-MODIFIED:20221004T185641Z
UID:6858-1667174400-1667260799@hohathleticarts.com
SUMMARY:Holiday Closure
DESCRIPTION:HOH is closed. There are no classes\, camp\, or open gym. Phones will not be answered at this time. Please leave a voice message at (510)655-1265 or email us at info@hohathleticarts.com and we will get back to you on Tuesday\, November 1st. \nHave a safe and fun Halloween!
URL:https://hohathleticarts.com/event/holiday-closure-11/
END:VEVENT
BEGIN:VEVENT
DTSTART;TZID=America/Los_Angeles:20221024T083000
DTEND;TZID=America/Los_Angeles:20221024T153000
DTSTAMP:20260425T200305
CREATED:20221004T173806Z
LAST-MODIFIED:20221004T173806Z
UID:6843-1666600200-1666625400@hohathleticarts.com
SUMMARY:No School Day Camp
DESCRIPTION:School-Age\nFull Day\nAfterschool Club\n(3:30-6PM)
URL:https://hohathleticarts.com/event/no-school-day-camp-51/
CATEGORIES:Camp
END:VEVENT
BEGIN:VEVENT
DTSTART;TZID=America/Los_Angeles:20221021T083000
DTEND;TZID=America/Los_Angeles:20221021T153000
DTSTAMP:20260425T200305
CREATED:20221004T173722Z
LAST-MODIFIED:20221004T173722Z
UID:6841-1666341000-1666366200@hohathleticarts.com
SUMMARY:No School Day Camp
DESCRIPTION:School-Age\nFull Day\nAfterschool Club\n(3:30-6PM)
URL:https://hohathleticarts.com/event/no-school-day-camp-50/
CATEGORIES:Camp
END:VEVENT
BEGIN:VEVENT
DTSTART;TZID=America/Los_Angeles:20221017T083000
DTEND;TZID=America/Los_Angeles:20221017T153000
DTSTAMP:20260425T200305
CREATED:20221004T173622Z
LAST-MODIFIED:20221004T173622Z
UID:6839-1665995400-1666020600@hohathleticarts.com
SUMMARY:No School Day Camp
DESCRIPTION:Preschool\nFull Day\nAfterschool Club\n(3:30-6PM)
URL:https://hohathleticarts.com/event/no-school-day-camp-49/
CATEGORIES:Camp
END:VEVENT
BEGIN:VEVENT
DTSTART;TZID=America/Los_Angeles:20221014T083000
DTEND;TZID=America/Los_Angeles:20221014T153000
DTSTAMP:20260425T200305
CREATED:20221004T173302Z
LAST-MODIFIED:20221004T173302Z
UID:6837-1665736200-1665761400@hohathleticarts.com
SUMMARY:No School Day Camp
DESCRIPTION:School-Age\nFull Day\nAfterschool Club\n(3:30-6PM)
URL:https://hohathleticarts.com/event/no-school-day-camp-48/
CATEGORIES:Camp
END:VEVENT
BEGIN:VEVENT
DTSTART;TZID=America/Los_Angeles:20221010T083000
DTEND;TZID=America/Los_Angeles:20221010T153000
DTSTAMP:20260425T200305
CREATED:20220906T215012Z
LAST-MODIFIED:20220906T215012Z
UID:6803-1665390600-1665415800@hohathleticarts.com
SUMMARY:No School Day Camp
DESCRIPTION:School-Age\nFull Day\nAfterschool Club\n(3:30-6PM)
URL:https://hohathleticarts.com/event/no-school-day-camp-47/
CATEGORIES:Camp
END:VEVENT
BEGIN:VEVENT
DTSTART;TZID=America/Los_Angeles:20221007T083000
DTEND;TZID=America/Los_Angeles:20221007T153000
DTSTAMP:20260425T200305
CREATED:20221004T173915Z
LAST-MODIFIED:20221004T173915Z
UID:6847-1665131400-1665156600@hohathleticarts.com
SUMMARY:No School Day Camp
DESCRIPTION:School-Age\nFull Day\nAfterschool Club\n(3:30-6PM)
URL:https://hohathleticarts.com/event/no-school-day-camp-53/
CATEGORIES:Camp
END:VEVENT
BEGIN:VEVENT
DTSTART;TZID=America/Los_Angeles:20221006T083000
DTEND;TZID=America/Los_Angeles:20221006T153000
DTSTAMP:20260425T200305
CREATED:20221004T173848Z
LAST-MODIFIED:20221004T173848Z
UID:6845-1665045000-1665070200@hohathleticarts.com
SUMMARY:No School Day Camp
DESCRIPTION:School-Age\nFull Day\nAfterschool Club\n(3:30-6PM)
URL:https://hohathleticarts.com/event/no-school-day-camp-52/
CATEGORIES:Camp
END:VEVENT
BEGIN:VEVENT
DTSTART;TZID=America/Los_Angeles:20220916T083000
DTEND;TZID=America/Los_Angeles:20220916T153000
DTSTAMP:20260425T200305
CREATED:20220816T164033Z
LAST-MODIFIED:20220816T164204Z
UID:6764-1663317000-1663342200@hohathleticarts.com
SUMMARY:No School Day Camp
DESCRIPTION:School-Age\nFull Day\nAfterschool Club\n(3:30-6PM)
URL:https://hohathleticarts.com/event/no-school-day-camp-46/
CATEGORIES:Camp
END:VEVENT
BEGIN:VEVENT
DTSTART;VALUE=DATE:20220903
DTEND;VALUE=DATE:20220906
DTSTAMP:20260425T200305
CREATED:20220816T163615Z
LAST-MODIFIED:20220816T163615Z
UID:6761-1662163200-1662422399@hohathleticarts.com
SUMMARY:Holiday Closure
DESCRIPTION:HOH is closed. There are no classes\, camp\, or open gym. Phones will not be answered at this time. Please leave a voice message or email us at info@hohathleticarts.com and we will get back to you on Tuesday\, September 6th. \nHave a safe Labor Day weekend.
URL:https://hohathleticarts.com/event/holiday-closure-9/
END:VEVENT
BEGIN:VEVENT
DTSTART;TZID=America/Los_Angeles:20220822T083000
DTEND;TZID=America/Los_Angeles:20220826T180000
DTSTAMP:20260425T200305
CREATED:20220120T025249Z
LAST-MODIFIED:20220401T043415Z
UID:5789-1661157000-1661536800@hohathleticarts.com
SUMMARY:Summer Camp
DESCRIPTION:Preschool Half Day\n(8:30AM – 1:30PM)   Preschool Full Day*\n(8:30AM – 3:30PM)\nSchool-Age Full Day*\n(8:30AM – 3:30PM) \nAfter-care is from 3:30 PM to 5:30 PM at no additional charge \n*Full Day Camps are at capacity. Please call (510) 655-1265 to inquire about our waitlists.
URL:https://hohathleticarts.com/event/summer-camp-38/
CATEGORIES:Camp
END:VEVENT
BEGIN:VEVENT
DTSTART;TZID=America/Los_Angeles:20220815T083000
DTEND;TZID=America/Los_Angeles:20220819T180000
DTSTAMP:20260425T200305
CREATED:20220120T025224Z
LAST-MODIFIED:20220401T043434Z
UID:5787-1660552200-1660932000@hohathleticarts.com
SUMMARY:Summer Camp
DESCRIPTION:Preschool Half Day\n(8:30AM – 1:30PM)   Preschool Full Day*\n(8:30AM – 3:30PM)\nSchool-Age Full Day*\n(8:30AM – 3:30PM) \nAfter-care is from 3:30 PM to 5:30 PM at no additional charge \n*Full Day Camps are at capacity. Please call (510) 655-1265 to inquire about our waitlists.
URL:https://hohathleticarts.com/event/summer-camp-37/
CATEGORIES:Camp
END:VEVENT
BEGIN:VEVENT
DTSTART;TZID=America/Los_Angeles:20220808T083000
DTEND;TZID=America/Los_Angeles:20220812T180000
DTSTAMP:20260425T200305
CREATED:20220120T025200Z
LAST-MODIFIED:20220401T043436Z
UID:5785-1659947400-1660327200@hohathleticarts.com
SUMMARY:Summer Camp
DESCRIPTION:Preschool Half Day\n(8:30AM – 1:30PM)   Preschool Full Day*\n(8:30AM – 3:30PM)\nSchool-Age Full Day*\n(8:30AM – 3:30PM) \nAfter-care is from 3:30 PM to 5:30 PM at no additional charge \n*Full Day Camps are at capacity. Please call (510) 655-1265 to inquire about our waitlists.
URL:https://hohathleticarts.com/event/summer-camp-36/
CATEGORIES:Camp
END:VEVENT
BEGIN:VEVENT
DTSTART;TZID=America/Los_Angeles:20220801T083000
DTEND;TZID=America/Los_Angeles:20220805T180000
DTSTAMP:20260425T200305
CREATED:20220120T025135Z
LAST-MODIFIED:20220401T043439Z
UID:5783-1659342600-1659722400@hohathleticarts.com
SUMMARY:Summer Camp
DESCRIPTION:Preschool Half Day\n(8:30AM – 1:30PM)   Preschool Full Day*\n(8:30AM – 3:30PM)\nSchool-Age Full Day*\n(8:30AM – 3:30PM) \nAfter-care is from 3:30 PM to 5:30 PM at no additional charge \n*Full Day Camps are at capacity. Please call (510) 655-1265 to inquire about our waitlists.
URL:https://hohathleticarts.com/event/summer-camp-35/
CATEGORIES:Camp
END:VEVENT
BEGIN:VEVENT
DTSTART;TZID=America/Los_Angeles:20220725T083000
DTEND;TZID=America/Los_Angeles:20220729T180000
DTSTAMP:20260425T200305
CREATED:20220120T025046Z
LAST-MODIFIED:20220401T043444Z
UID:5779-1658737800-1659117600@hohathleticarts.com
SUMMARY:Summer Camp
DESCRIPTION:Preschool Half Day\n(8:30AM – 1:30PM)   Preschool Full Day*\n(8:30AM – 3:30PM)\nSchool-Age Full Day*\n(8:30AM – 3:30PM) \nAfter-care is from 3:30 PM to 5:30 PM at no additional charge \n*Full Day Camps are at capacity. Please call (510) 655-1265 to inquire about our waitlists.
URL:https://hohathleticarts.com/event/summer-camp-33/
CATEGORIES:Camp
END:VEVENT
BEGIN:VEVENT
DTSTART;TZID=America/Los_Angeles:20220718T083000
DTEND;TZID=America/Los_Angeles:20220722T180000
DTSTAMP:20260425T200305
CREATED:20220120T025113Z
LAST-MODIFIED:20220401T165627Z
UID:5781-1658133000-1658512800@hohathleticarts.com
SUMMARY:Summer Camp
DESCRIPTION:Preschool Half Day\n(8:30AM – 1:30PM)   Preschool Full Day*\n(8:30AM – 3:30PM)\nSchool-Age Full Day*\n(8:30AM – 3:30PM) \nAfter-care is from 3:30 PM to 5:30 PM at no additional charge \n*Full Day Camps are at capacity. Please call (510) 655-1265 to inquire about our waitlists.
URL:https://hohathleticarts.com/event/summer-camp-34/
CATEGORIES:Camp
END:VEVENT
BEGIN:VEVENT
DTSTART;TZID=America/Los_Angeles:20220711T083000
DTEND;TZID=America/Los_Angeles:20220715T180000
DTSTAMP:20260425T200305
CREATED:20220120T023607Z
LAST-MODIFIED:20220401T165630Z
UID:5777-1657528200-1657908000@hohathleticarts.com
SUMMARY:Summer Camp
DESCRIPTION:Preschool Half Day\n(8:30AM – 1:30PM)   Preschool Full Day*\n(8:30AM – 3:30PM)\nSchool-Age Full Day*\n(8:30AM – 3:30PM) \nAfter-care is from 3:30 PM to 5:30 PM at no additional charge \n*Full Day Camps are at capacity. Please call (510) 655-1265 to inquire about our waitlists.
URL:https://hohathleticarts.com/event/summer-camp-32/
CATEGORIES:Camp
END:VEVENT
BEGIN:VEVENT
DTSTART;VALUE=DATE:20220704
DTEND;VALUE=DATE:20220711
DTSTAMP:20260425T200305
CREATED:20220628T210631Z
LAST-MODIFIED:20220628T210631Z
UID:6697-1656892800-1657497599@hohathleticarts.com
SUMMARY:Closure
DESCRIPTION:HOH is closed. There are no classes\, camp\, birthday parties\, or team practice. \nPhones will not be answered at this time. Please leave a voice message or email us at info@hohathleticarts.com and we will get back to you on Monday\, July 11th. \nHave a safe Independence holiday week.
URL:https://hohathleticarts.com/event/closure/
END:VEVENT
BEGIN:VEVENT
DTSTART;TZID=America/Los_Angeles:20220627T083000
DTEND;TZID=America/Los_Angeles:20220701T180000
DTSTAMP:20260425T200305
CREATED:20220120T023541Z
LAST-MODIFIED:20220401T165647Z
UID:5775-1656318600-1656698400@hohathleticarts.com
SUMMARY:Summer Camp
DESCRIPTION:Preschool Half Day\n(8:30AM – 1:30PM)   Preschool Full Day*\n(8:30AM – 3:30PM)\nSchool-Age Full Day*\n(8:30AM – 3:30PM) \nAfter-care is from 3:30 PM to 5:30 PM at no additional charge \n*Full Day Camps are at capacity. Please call (510) 655-1265 to inquire about our waitlists.
URL:https://hohathleticarts.com/event/summer-camp-31/
CATEGORIES:Camp
END:VEVENT
BEGIN:VEVENT
DTSTART;TZID=America/Los_Angeles:20220620T083000
DTEND;TZID=America/Los_Angeles:20220624T180000
DTSTAMP:20260425T200305
CREATED:20220120T023512Z
LAST-MODIFIED:20220401T165649Z
UID:5773-1655713800-1656093600@hohathleticarts.com
SUMMARY:Summer Camp
DESCRIPTION:Preschool Half Day\n(8:30AM – 1:30PM)   Preschool Full Day*\n(8:30AM – 3:30PM)\nSchool-Age Full Day*\n(8:30AM – 3:30PM) \nAfter-care is from 3:30 PM to 5:30 PM at no additional charge \n*Full Day Camps are at capacity. Please call (510) 655-1265 to inquire about our waitlists.
URL:https://hohathleticarts.com/event/summer-camp-30/
CATEGORIES:Camp
END:VEVENT
END:VCALENDAR