BEGIN:VCALENDAR
VERSION:2.0
PRODID:-//Head Over Heels Athletic Arts - ECPv6.15.20//NONSGML v1.0//EN
CALSCALE:GREGORIAN
METHOD:PUBLISH
X-WR-CALNAME:Head Over Heels Athletic Arts
X-ORIGINAL-URL:https://hohathleticarts.com
X-WR-CALDESC:Events for Head Over Heels Athletic Arts
REFRESH-INTERVAL;VALUE=DURATION:PT1H
X-Robots-Tag:noindex
X-PUBLISHED-TTL:PT1H
BEGIN:VTIMEZONE
TZID:America/Los_Angeles
BEGIN:DAYLIGHT
TZOFFSETFROM:-0800
TZOFFSETTO:-0700
TZNAME:PDT
DTSTART:20240310T100000
END:DAYLIGHT
BEGIN:STANDARD
TZOFFSETFROM:-0700
TZOFFSETTO:-0800
TZNAME:PST
DTSTART:20241103T090000
END:STANDARD
BEGIN:DAYLIGHT
TZOFFSETFROM:-0800
TZOFFSETTO:-0700
TZNAME:PDT
DTSTART:20250309T100000
END:DAYLIGHT
BEGIN:STANDARD
TZOFFSETFROM:-0700
TZOFFSETTO:-0800
TZNAME:PST
DTSTART:20251102T090000
END:STANDARD
BEGIN:DAYLIGHT
TZOFFSETFROM:-0800
TZOFFSETTO:-0700
TZNAME:PDT
DTSTART:20260308T100000
END:DAYLIGHT
BEGIN:STANDARD
TZOFFSETFROM:-0700
TZOFFSETTO:-0800
TZNAME:PST
DTSTART:20261101T090000
END:STANDARD
END:VTIMEZONE
BEGIN:VEVENT
DTSTART;VALUE=DATE:20251126
DTEND;VALUE=DATE:20251127
DTSTAMP:20260425T070359
CREATED:20251008T181605Z
LAST-MODIFIED:20251008T181630Z
UID:9179-1764115200-1764201599@hohathleticarts.com
SUMMARY:No Classes
DESCRIPTION:Classes are not in session due to the Thanksgiving holiday. Camp will still be running during this time. Classes resume on Monday\, December 1st. \nThank you for being a part of our HOH family and have a wonderful Thanksgiving.
URL:https://hohathleticarts.com/event/no-classes-16/
CATEGORIES:Facility
END:VEVENT
BEGIN:VEVENT
DTSTART;TZID=America/Los_Angeles:20251125T083000
DTEND;TZID=America/Los_Angeles:20251125T153000
DTSTAMP:20260425T070359
CREATED:20250910T192528Z
LAST-MODIFIED:20250910T192528Z
UID:9086-1764059400-1764084600@hohathleticarts.com
SUMMARY:Thanksgiving Camp
DESCRIPTION:Preschool\nFull Day   School-Age\nFull Day \nAfter-care\n(3-5:30PM)
URL:https://hohathleticarts.com/event/thanksgiving-camp-10/
CATEGORIES:Camp,Seasonal Camp,NSD
END:VEVENT
BEGIN:VEVENT
DTSTART;TZID=America/Los_Angeles:20251124T083000
DTEND;TZID=America/Los_Angeles:20251124T153000
DTSTAMP:20260425T070359
CREATED:20250910T192507Z
LAST-MODIFIED:20250910T192507Z
UID:9084-1763973000-1763998200@hohathleticarts.com
SUMMARY:Thanksgiving Camp
DESCRIPTION:Preschool\nFull Day   School-Age\nFull Day \nAfter-care\n(3-5:30PM)
URL:https://hohathleticarts.com/event/thanksgiving-camp-9/
CATEGORIES:Camp,Seasonal Camp,NSD
END:VEVENT
BEGIN:VEVENT
DTSTART;TZID=America/Los_Angeles:20251121T083000
DTEND;TZID=America/Los_Angeles:20251121T153000
DTSTAMP:20260425T070359
CREATED:20251119T192632Z
LAST-MODIFIED:20251119T192632Z
UID:9264-1763713800-1763739000@hohathleticarts.com
SUMMARY:No School Day Camp
DESCRIPTION:Preschool\nFull Day   After-care\n(3-5:30PM)
URL:https://hohathleticarts.com/event/no-school-day-camp-164/
CATEGORIES:Camp,NSD
END:VEVENT
BEGIN:VEVENT
DTSTART;TZID=America/Los_Angeles:20251120T083000
DTEND;TZID=America/Los_Angeles:20251120T153000
DTSTAMP:20260425T070359
CREATED:20251119T192545Z
LAST-MODIFIED:20251119T192545Z
UID:9262-1763627400-1763652600@hohathleticarts.com
SUMMARY:No School Day Camp
DESCRIPTION:Preschool\nFull Day   After-care\n(3-5:30PM)
URL:https://hohathleticarts.com/event/no-school-day-camp-163/
CATEGORIES:Camp,NSD
END:VEVENT
BEGIN:VEVENT
DTSTART;TZID=America/Los_Angeles:20251111T083000
DTEND;TZID=America/Los_Angeles:20251111T153000
DTSTAMP:20260425T070359
CREATED:20250910T190237Z
LAST-MODIFIED:20250929T190449Z
UID:9077-1762849800-1762875000@hohathleticarts.com
SUMMARY:No School Day Camp
DESCRIPTION:Preschool\nHalf Day   Preschool\nFull Day \nSchool-Age\nFull Day   After-care\n(3-5:30PM)
URL:https://hohathleticarts.com/event/9077/
CATEGORIES:Camp,NSD
END:VEVENT
BEGIN:VEVENT
DTSTART;TZID=America/Los_Angeles:20251110T083000
DTEND;TZID=America/Los_Angeles:20251110T153000
DTSTAMP:20260425T070359
CREATED:20251022T215115Z
LAST-MODIFIED:20251022T215115Z
UID:9224-1762763400-1762788600@hohathleticarts.com
SUMMARY:No School Day Camp
DESCRIPTION:Preschool\nFull Day   School-Age\nFull Day \nAfter-care\n(3-5:30PM)
URL:https://hohathleticarts.com/event/no-school-day-camp-161/
CATEGORIES:Camp,NSD
END:VEVENT
BEGIN:VEVENT
DTSTART;TZID=America/Los_Angeles:20251107T183000
DTEND;TZID=America/Los_Angeles:20251107T223000
DTSTAMP:20260425T070359
CREATED:20251015T200642Z
LAST-MODIFIED:20251015T200642Z
UID:9205-1762540200-1762554600@hohathleticarts.com
SUMMARY:Parents' Night Out
DESCRIPTION:Parents’ Night Out is offered on the 1st Friday of every month from 6:30-10:30pm. Children eat pizza\, play in the gym for hours and end the night with a age-appropriate movie. \nRegister
URL:https://hohathleticarts.com/event/parents-night-out-4/
CATEGORIES:PNO
END:VEVENT
BEGIN:VEVENT
DTSTART;VALUE=DATE:20251031
DTEND;VALUE=DATE:20251101
DTSTAMP:20260425T070359
CREATED:20251008T180935Z
LAST-MODIFIED:20251008T181327Z
UID:9173-1761868800-1761955199@hohathleticarts.com
SUMMARY:Holiday Closure
DESCRIPTION:HOH is closed. There are no classes\, team practice\, or camp. Phones will not be answered at this time. Please leave a voice message at (510) 655-1265 or email us at info@hohathleticarts.com and we will get back to you on Saturday\, November 1st. \nHappy Halloween!
URL:https://hohathleticarts.com/event/holiday-closure-33/
CATEGORIES:Facility
END:VEVENT
BEGIN:VEVENT
DTSTART;TZID=America/Los_Angeles:20251024T083000
DTEND;TZID=America/Los_Angeles:20251024T153000
DTSTAMP:20260425T070359
CREATED:20251008T183802Z
LAST-MODIFIED:20251008T183802Z
UID:9197-1761294600-1761319800@hohathleticarts.com
SUMMARY:No School Day Camp
DESCRIPTION:Preschool\nHalf Day   Preschool\nFull Day \nSchool-Age\nFull Day   After-care\n(3-5:30PM)
URL:https://hohathleticarts.com/event/no-school-day-camp-160/
CATEGORIES:Camp,NSD
END:VEVENT
BEGIN:VEVENT
DTSTART;TZID=America/Los_Angeles:20251017T083000
DTEND;TZID=America/Los_Angeles:20251017T153000
DTSTAMP:20260425T070359
CREATED:20251008T183459Z
LAST-MODIFIED:20251008T183540Z
UID:9194-1760689800-1760715000@hohathleticarts.com
SUMMARY:No School Day Camp
DESCRIPTION:Preschool\nHalf Day   Preschool\nFull Day \nSchool-Age\nFull Day   After-care\n(3-5:30PM)
URL:https://hohathleticarts.com/event/no-school-day-camp-159/
CATEGORIES:Camp,NSD
END:VEVENT
BEGIN:VEVENT
DTSTART;TZID=America/Los_Angeles:20251013T083000
DTEND;TZID=America/Los_Angeles:20251017T153000
DTSTAMP:20260425T070359
CREATED:20250929T192836Z
LAST-MODIFIED:20250929T193344Z
UID:9145-1760344200-1760715000@hohathleticarts.com
SUMMARY:Fall Break Camp
DESCRIPTION:Ages 4-12\nFull Day   After-care\n(3-5:30PM)
URL:https://hohathleticarts.com/event/fall-break-camp/
CATEGORIES:Camp,Seasonal Camp
END:VEVENT
BEGIN:VEVENT
DTSTART;TZID=America/Los_Angeles:20251013T083000
DTEND;TZID=America/Los_Angeles:20251013T153000
DTSTAMP:20260425T070359
CREATED:20250915T210038Z
LAST-MODIFIED:20250915T210038Z
UID:9129-1760344200-1760369400@hohathleticarts.com
SUMMARY:No School Day Camp
DESCRIPTION:Preschool\nHalf Day   Preschool\nFull Day \nSchool-Age\nFull Day   After-care\n(3-5:30PM)
URL:https://hohathleticarts.com/event/no-school-day-camp-157/
CATEGORIES:Camp,NSD
END:VEVENT
BEGIN:VEVENT
DTSTART;TZID=America/Los_Angeles:20251010T083000
DTEND;TZID=America/Los_Angeles:20251010T153000
DTSTAMP:20260425T070359
CREATED:20251002T201014Z
LAST-MODIFIED:20251002T201014Z
UID:9150-1760085000-1760110200@hohathleticarts.com
SUMMARY:No School Day Camp
DESCRIPTION:Ages 4-12\nFull Day   After-care\n(3-5:30PM)
URL:https://hohathleticarts.com/event/no-school-day-camp-158/
CATEGORIES:Camp,NSD
END:VEVENT
BEGIN:VEVENT
DTSTART;TZID=America/Los_Angeles:20251006T083000
DTEND;TZID=America/Los_Angeles:20251006T153000
DTSTAMP:20260425T070400
CREATED:20250915T205039Z
LAST-MODIFIED:20250915T205039Z
UID:9126-1759739400-1759764600@hohathleticarts.com
SUMMARY:No School Day Camp
DESCRIPTION:School-Age\nFull Day   After-care\n(3-5:30PM)
URL:https://hohathleticarts.com/event/no-school-day-camp-156/
CATEGORIES:Camp,NSD
END:VEVENT
BEGIN:VEVENT
DTSTART;VALUE=DATE:20251004
DTEND;VALUE=DATE:20251005
DTSTAMP:20260425T070400
CREATED:20250818T223417Z
LAST-MODIFIED:20251008T182536Z
UID:9059-1759536000-1759622399@hohathleticarts.com
SUMMARY:Annual Poker Tournament
DESCRIPTION:Save the date for our 7th Annual Texas Hold’em Tournament on Saturday\, October 4th! Join family\, friends\, board members\, staff\, and supporters for a great cause. \n5 – 6 p.m. | Cocktails &  Appetizer\n6 – 10 p.m. | Texas Hold’em Tournament   \nLearn More &\nBuy Tickets \nMUST BE 21+ TO ATTEND
URL:https://hohathleticarts.com/event/annual-poker-tournament-2/
CATEGORIES:Special
END:VEVENT
BEGIN:VEVENT
DTSTART;TZID=America/Los_Angeles:20250919T083000
DTEND;TZID=America/Los_Angeles:20250919T153000
DTSTAMP:20260425T070400
CREATED:20250910T185745Z
LAST-MODIFIED:20250910T190328Z
UID:9075-1758270600-1758295800@hohathleticarts.com
SUMMARY:No School Day Camp
DESCRIPTION:School-Age\nFull Day   After-care\n(3-5:30PM)
URL:https://hohathleticarts.com/event/no-school-day-camp-155/
CATEGORIES:Camp,NSD
END:VEVENT
BEGIN:VEVENT
DTSTART;VALUE=DATE:20250824
DTEND;VALUE=DATE:20250908
DTSTAMP:20260425T070400
CREATED:20250415T182001Z
LAST-MODIFIED:20250730T204559Z
UID:8826-1755993600-1757289599@hohathleticarts.com
SUMMARY:Renovation Closure
DESCRIPTION:HOH is closed. We will be renovating our bathrooms during this time. \nThere are no classes or camp. Phones will not be answered at this time. Please leave a voice message at (510) 655-1265 or email us at info@hohathleticarts.com and we will get back to you as soon as we can. \nSee you back at the gym on Monday\, September 8th.
URL:https://hohathleticarts.com/event/holiday-closure-32/
CATEGORIES:Facility
END:VEVENT
BEGIN:VEVENT
DTSTART;TZID=America/Los_Angeles:20250818T083000
DTEND;TZID=America/Los_Angeles:20250822T173000
DTSTAMP:20260425T070400
CREATED:20250204T231321Z
LAST-MODIFIED:20250204T231321Z
UID:8634-1755505800-1755883800@hohathleticarts.com
SUMMARY:Summer Camp
DESCRIPTION:Preschool\nHalf Day   Preschool\nFull Day\nSchool-Age\nFull Day
URL:https://hohathleticarts.com/event/summer-camp-71/
CATEGORIES:Camp,Seasonal Camp
END:VEVENT
BEGIN:VEVENT
DTSTART;TZID=America/Los_Angeles:20250811T083000
DTEND;TZID=America/Los_Angeles:20250815T173000
DTSTAMP:20260425T070400
CREATED:20250204T225004Z
LAST-MODIFIED:20250204T225004Z
UID:8632-1754901000-1755279000@hohathleticarts.com
SUMMARY:Summer Camp
DESCRIPTION:Preschool\nHalf Day   Preschool\nFull Day\nSchool-Age\nFull Day
URL:https://hohathleticarts.com/event/summer-camp-70/
CATEGORIES:Camp,Seasonal Camp
END:VEVENT
BEGIN:VEVENT
DTSTART;TZID=America/Los_Angeles:20250804T083000
DTEND;TZID=America/Los_Angeles:20250808T173000
DTSTAMP:20260425T070400
CREATED:20250204T224938Z
LAST-MODIFIED:20250204T224938Z
UID:8630-1754296200-1754674200@hohathleticarts.com
SUMMARY:Summer Camp
DESCRIPTION:Preschool\nHalf Day   Preschool\nFull Day\nSchool-Age\nFull Day
URL:https://hohathleticarts.com/event/summer-camp-69/
CATEGORIES:Camp,Seasonal Camp
END:VEVENT
BEGIN:VEVENT
DTSTART;TZID=America/Los_Angeles:20250728T083000
DTEND;TZID=America/Los_Angeles:20250801T173000
DTSTAMP:20260425T070400
CREATED:20250204T224331Z
LAST-MODIFIED:20250204T224331Z
UID:8628-1753691400-1754069400@hohathleticarts.com
SUMMARY:Summer Camp
DESCRIPTION:Preschool\nHalf Day   Preschool\nFull Day\nSchool-Age\nFull Day
URL:https://hohathleticarts.com/event/summer-camp-68/
CATEGORIES:Camp,Seasonal Camp
END:VEVENT
BEGIN:VEVENT
DTSTART;TZID=America/Los_Angeles:20250721T083000
DTEND;TZID=America/Los_Angeles:20250725T173000
DTSTAMP:20260425T070400
CREATED:20250204T224306Z
LAST-MODIFIED:20250204T224306Z
UID:8626-1753086600-1753464600@hohathleticarts.com
SUMMARY:Summer Camp
DESCRIPTION:Preschool\nHalf Day   Preschool\nFull Day\nSchool-Age\nFull Day
URL:https://hohathleticarts.com/event/summer-camp-67/
CATEGORIES:Camp,Seasonal Camp
END:VEVENT
BEGIN:VEVENT
DTSTART;TZID=America/Los_Angeles:20250714T083000
DTEND;TZID=America/Los_Angeles:20250718T173000
DTSTAMP:20260425T070400
CREATED:20250204T222144Z
LAST-MODIFIED:20250204T222144Z
UID:8624-1752481800-1752859800@hohathleticarts.com
SUMMARY:Summer Camp
DESCRIPTION:Preschool\nHalf Day   Preschool\nFull Day\nSchool-Age\nFull Day
URL:https://hohathleticarts.com/event/summer-camp-66/
CATEGORIES:Camp,Seasonal Camp
END:VEVENT
BEGIN:VEVENT
DTSTART;TZID=America/Los_Angeles:20250707T083000
DTEND;TZID=America/Los_Angeles:20250711T173000
DTSTAMP:20260425T070400
CREATED:20250204T221907Z
LAST-MODIFIED:20250204T221907Z
UID:8622-1751877000-1752255000@hohathleticarts.com
SUMMARY:Summer Camp
DESCRIPTION:Preschool\nHalf Day   Preschool\nFull Day\nSchool-Age\nFull Day
URL:https://hohathleticarts.com/event/summer-camp-65/
CATEGORIES:Camp,Seasonal Camp
END:VEVENT
BEGIN:VEVENT
DTSTART;VALUE=DATE:20250630
DTEND;VALUE=DATE:20250707
DTSTAMP:20260425T070400
CREATED:20250415T181831Z
LAST-MODIFIED:20250415T181831Z
UID:8824-1751241600-1751846399@hohathleticarts.com
SUMMARY:Holiday Closure
DESCRIPTION:HOH is closed. There are no classes or camp. Phones will not be answered at this time. Please leave a voice message at (510) 655-1265 or email us at info@hohathleticarts.com and we will get back to you as soon as we can. \nHave a safe and wonderful break for Independence Day!
URL:https://hohathleticarts.com/event/holiday-closure-31/
CATEGORIES:Facility
END:VEVENT
BEGIN:VEVENT
DTSTART;TZID=America/Los_Angeles:20250623T083000
DTEND;TZID=America/Los_Angeles:20250627T173000
DTSTAMP:20260425T070400
CREATED:20250204T215553Z
LAST-MODIFIED:20250204T215553Z
UID:8620-1750667400-1751045400@hohathleticarts.com
SUMMARY:Summer Camp
DESCRIPTION:Preschool\nHalf Day   Preschool\nFull Day\nSchool-Age\nFull Day
URL:https://hohathleticarts.com/event/summer-camp-64/
CATEGORIES:Camp,Seasonal Camp
END:VEVENT
BEGIN:VEVENT
DTSTART;TZID=America/Los_Angeles:20250616T083000
DTEND;TZID=America/Los_Angeles:20250620T173000
DTSTAMP:20260425T070400
CREATED:20250204T215357Z
LAST-MODIFIED:20250204T215357Z
UID:8618-1750062600-1750440600@hohathleticarts.com
SUMMARY:Summer Camp
DESCRIPTION:Preschool\nHalf Day   Preschool\nFull Day\nSchool-Age\nFull Day
URL:https://hohathleticarts.com/event/summer-camp-63/
CATEGORIES:Camp,Seasonal Camp
END:VEVENT
BEGIN:VEVENT
DTSTART;TZID=America/Los_Angeles:20250609T083000
DTEND;TZID=America/Los_Angeles:20250613T173000
DTSTAMP:20260425T070400
CREATED:20250204T214533Z
LAST-MODIFIED:20250204T214533Z
UID:8616-1749457800-1749835800@hohathleticarts.com
SUMMARY:Summer Camp
DESCRIPTION:Preschool\nHalf Day   Preschool\nFull Day\nSchool-Age\nFull Day
URL:https://hohathleticarts.com/event/summer-camp-62/
CATEGORIES:Camp,Seasonal Camp
END:VEVENT
BEGIN:VEVENT
DTSTART;TZID=America/Los_Angeles:20250602T083000
DTEND;TZID=America/Los_Angeles:20250606T173000
DTSTAMP:20260425T070400
CREATED:20250204T214504Z
LAST-MODIFIED:20250204T214504Z
UID:8614-1748853000-1749231000@hohathleticarts.com
SUMMARY:Summer Camp
DESCRIPTION:Preschool\nHalf Day   Preschool\nFull Day\nSchool-Age\nFull Day
URL:https://hohathleticarts.com/event/summer-camp-61/
CATEGORIES:Camp,Seasonal Camp
END:VEVENT
END:VCALENDAR