BEGIN:VCALENDAR
VERSION:2.0
PRODID:-//Head Over Heels Athletic Arts - ECPv6.15.20//NONSGML v1.0//EN
CALSCALE:GREGORIAN
METHOD:PUBLISH
X-ORIGINAL-URL:https://hohathleticarts.com
X-WR-CALDESC:Events for Head Over Heels Athletic Arts
REFRESH-INTERVAL;VALUE=DURATION:PT1H
X-Robots-Tag:noindex
X-PUBLISHED-TTL:PT1H
BEGIN:VTIMEZONE
TZID:America/Los_Angeles
BEGIN:DAYLIGHT
TZOFFSETFROM:-0800
TZOFFSETTO:-0700
TZNAME:PDT
DTSTART:20240310T100000
END:DAYLIGHT
BEGIN:STANDARD
TZOFFSETFROM:-0700
TZOFFSETTO:-0800
TZNAME:PST
DTSTART:20241103T090000
END:STANDARD
BEGIN:DAYLIGHT
TZOFFSETFROM:-0800
TZOFFSETTO:-0700
TZNAME:PDT
DTSTART:20250309T100000
END:DAYLIGHT
BEGIN:STANDARD
TZOFFSETFROM:-0700
TZOFFSETTO:-0800
TZNAME:PST
DTSTART:20251102T090000
END:STANDARD
BEGIN:DAYLIGHT
TZOFFSETFROM:-0800
TZOFFSETTO:-0700
TZNAME:PDT
DTSTART:20260308T100000
END:DAYLIGHT
BEGIN:STANDARD
TZOFFSETFROM:-0700
TZOFFSETTO:-0800
TZNAME:PST
DTSTART:20261101T090000
END:STANDARD
END:VTIMEZONE
BEGIN:VEVENT
DTSTART;TZID=America/Los_Angeles:20250501T083000
DTEND;TZID=America/Los_Angeles:20250501T153000
DTSTAMP:20260424T182940
CREATED:20250429T234656Z
LAST-MODIFIED:20250429T234656Z
UID:8835-1746088200-1746113400@hohathleticarts.com
SUMMARY:No School Day Camp
DESCRIPTION:School-Age\nFull Day   Afterschool Club\n(3-6PM) \nThis Thursday\, May 1st with OUSD teachers potentially going on strike\, this NSD Camp will make an exception to our refund and cancellation policy due to the nature of the situation. If the strike does not happen\, we will refund any camp tuition paid.
URL:https://hohathleticarts.com/event/no-school-day-camp-150/
CATEGORIES:Camp,NSD
END:VEVENT
BEGIN:VEVENT
DTSTART;TZID=America/Los_Angeles:20250516T083000
DTEND;TZID=America/Los_Angeles:20250516T153000
DTSTAMP:20260424T182940
CREATED:20250516T162757Z
LAST-MODIFIED:20250516T162757Z
UID:8921-1747384200-1747409400@hohathleticarts.com
SUMMARY:No School Day Camp
DESCRIPTION:School-Age\nFull Day   Afterschool Club\n(3-6PM)
URL:https://hohathleticarts.com/event/no-school-day-camp-153/
CATEGORIES:Camp,NSD
END:VEVENT
BEGIN:VEVENT
DTSTART;VALUE=DATE:20250518
DTEND;VALUE=DATE:20250519
DTSTAMP:20260424T182940
CREATED:20250404T000050Z
LAST-MODIFIED:20250410T211633Z
UID:8786-1747526400-1747612799@hohathleticarts.com
SUMMARY:Spring Show
DESCRIPTION:The day is jam packed with activities for the whole family\, and allows underserved youth the opportunity to participate in our programs. All HOH families (current\, past\, and future) are encouraged to join us. \nFind Out More
URL:https://hohathleticarts.com/event/spring-show/
CATEGORIES:Special
END:VEVENT
BEGIN:VEVENT
DTSTART;TZID=America/Los_Angeles:20250522T083000
DTEND;TZID=America/Los_Angeles:20250522T153000
DTSTAMP:20260424T182940
CREATED:20250512T212511Z
LAST-MODIFIED:20250512T212511Z
UID:8846-1747902600-1747927800@hohathleticarts.com
SUMMARY:No School Day Camp
DESCRIPTION:Preschool\nFull Day   Afterschool Club\n(3-6PM)
URL:https://hohathleticarts.com/event/no-school-day-camp-151/
CATEGORIES:Camp,NSD
END:VEVENT
BEGIN:VEVENT
DTSTART;TZID=America/Los_Angeles:20250523T083000
DTEND;TZID=America/Los_Angeles:20250523T153000
DTSTAMP:20260424T182940
CREATED:20250512T212737Z
LAST-MODIFIED:20250512T212737Z
UID:8848-1747989000-1748014200@hohathleticarts.com
SUMMARY:No School Day Camp
DESCRIPTION:Preschool\nHalf Day   Preschool\nFull Day \nSchool-Age\nFull Day   Afterschool Club\n(3-6PM)
URL:https://hohathleticarts.com/event/no-school-day-camp-152/
CATEGORIES:Camp,NSD
END:VEVENT
BEGIN:VEVENT
DTSTART;VALUE=DATE:20250524
DTEND;VALUE=DATE:20250527
DTSTAMP:20260424T182940
CREATED:20250401T172636Z
LAST-MODIFIED:20250401T172636Z
UID:8720-1748044800-1748303999@hohathleticarts.com
SUMMARY:Holiday Closure
DESCRIPTION:HOH is closed. There are no classes or camp. Phones will not be answered at this time. Please leave a voice message at (510) 655-1265 or email us at info@hohathleticarts.com and we will get back to you as soon as we can. \nHave a safe Memorial Weekend!
URL:https://hohathleticarts.com/event/holiday-closure-30/
CATEGORIES:Facility
END:VEVENT
BEGIN:VEVENT
DTSTART;TZID=America/Los_Angeles:20250529T083000
DTEND;TZID=America/Los_Angeles:20250529T153000
DTSTAMP:20260424T182940
CREATED:20250522T183018Z
LAST-MODIFIED:20250522T183018Z
UID:8951-1748507400-1748532600@hohathleticarts.com
SUMMARY:No School Day Camp
DESCRIPTION:Preschool\nFull Day   Afterschool Club\n(3-6PM)
URL:https://hohathleticarts.com/event/no-school-day-camp-154/
CATEGORIES:Camp,NSD
END:VEVENT
END:VCALENDAR