BEGIN:VCALENDAR
VERSION:2.0
PRODID:-//Head Over Heels Athletic Arts - ECPv6.15.20//NONSGML v1.0//EN
CALSCALE:GREGORIAN
METHOD:PUBLISH
X-WR-CALNAME:Head Over Heels Athletic Arts
X-ORIGINAL-URL:https://hohathleticarts.com
X-WR-CALDESC:Events for Head Over Heels Athletic Arts
REFRESH-INTERVAL;VALUE=DURATION:PT1H
X-Robots-Tag:noindex
X-PUBLISHED-TTL:PT1H
BEGIN:VTIMEZONE
TZID:America/Los_Angeles
BEGIN:DAYLIGHT
TZOFFSETFROM:-0800
TZOFFSETTO:-0700
TZNAME:PDT
DTSTART:20240310T100000
END:DAYLIGHT
BEGIN:STANDARD
TZOFFSETFROM:-0700
TZOFFSETTO:-0800
TZNAME:PST
DTSTART:20241103T090000
END:STANDARD
BEGIN:DAYLIGHT
TZOFFSETFROM:-0800
TZOFFSETTO:-0700
TZNAME:PDT
DTSTART:20250309T100000
END:DAYLIGHT
BEGIN:STANDARD
TZOFFSETFROM:-0700
TZOFFSETTO:-0800
TZNAME:PST
DTSTART:20251102T090000
END:STANDARD
BEGIN:DAYLIGHT
TZOFFSETFROM:-0800
TZOFFSETTO:-0700
TZNAME:PDT
DTSTART:20260308T100000
END:DAYLIGHT
BEGIN:STANDARD
TZOFFSETFROM:-0700
TZOFFSETTO:-0800
TZNAME:PST
DTSTART:20261101T090000
END:STANDARD
END:VTIMEZONE
BEGIN:VEVENT
DTSTART;VALUE=DATE:20250630
DTEND;VALUE=DATE:20250707
DTSTAMP:20260424T154639
CREATED:20250415T181831Z
LAST-MODIFIED:20250415T181831Z
UID:8824-1751241600-1751846399@hohathleticarts.com
SUMMARY:Holiday Closure
DESCRIPTION:HOH is closed. There are no classes or camp. Phones will not be answered at this time. Please leave a voice message at (510) 655-1265 or email us at info@hohathleticarts.com and we will get back to you as soon as we can. \nHave a safe and wonderful break for Independence Day!
URL:https://hohathleticarts.com/event/holiday-closure-31/
CATEGORIES:Facility
END:VEVENT
BEGIN:VEVENT
DTSTART;TZID=America/Los_Angeles:20250707T083000
DTEND;TZID=America/Los_Angeles:20250711T173000
DTSTAMP:20260424T154639
CREATED:20250204T221907Z
LAST-MODIFIED:20250204T221907Z
UID:8622-1751877000-1752255000@hohathleticarts.com
SUMMARY:Summer Camp
DESCRIPTION:Preschool\nHalf Day   Preschool\nFull Day\nSchool-Age\nFull Day
URL:https://hohathleticarts.com/event/summer-camp-65/
CATEGORIES:Camp,Seasonal Camp
END:VEVENT
BEGIN:VEVENT
DTSTART;TZID=America/Los_Angeles:20250714T083000
DTEND;TZID=America/Los_Angeles:20250718T173000
DTSTAMP:20260424T154639
CREATED:20250204T222144Z
LAST-MODIFIED:20250204T222144Z
UID:8624-1752481800-1752859800@hohathleticarts.com
SUMMARY:Summer Camp
DESCRIPTION:Preschool\nHalf Day   Preschool\nFull Day\nSchool-Age\nFull Day
URL:https://hohathleticarts.com/event/summer-camp-66/
CATEGORIES:Camp,Seasonal Camp
END:VEVENT
BEGIN:VEVENT
DTSTART;TZID=America/Los_Angeles:20250721T083000
DTEND;TZID=America/Los_Angeles:20250725T173000
DTSTAMP:20260424T154639
CREATED:20250204T224306Z
LAST-MODIFIED:20250204T224306Z
UID:8626-1753086600-1753464600@hohathleticarts.com
SUMMARY:Summer Camp
DESCRIPTION:Preschool\nHalf Day   Preschool\nFull Day\nSchool-Age\nFull Day
URL:https://hohathleticarts.com/event/summer-camp-67/
CATEGORIES:Camp,Seasonal Camp
END:VEVENT
BEGIN:VEVENT
DTSTART;TZID=America/Los_Angeles:20250728T083000
DTEND;TZID=America/Los_Angeles:20250801T173000
DTSTAMP:20260424T154639
CREATED:20250204T224331Z
LAST-MODIFIED:20250204T224331Z
UID:8628-1753691400-1754069400@hohathleticarts.com
SUMMARY:Summer Camp
DESCRIPTION:Preschool\nHalf Day   Preschool\nFull Day\nSchool-Age\nFull Day
URL:https://hohathleticarts.com/event/summer-camp-68/
CATEGORIES:Camp,Seasonal Camp
END:VEVENT
END:VCALENDAR